BEGIN:VCALENDAR
VERSION:2.0
PRODID:-//ChamberMaster//Event Calendar 2.0//EN
METHOD:PUBLISH
X-PUBLISHED-TTL:P3D
REFRESH-INTERVAL:P3D
CALSCALE:GREGORIAN
BEGIN:VEVENT
DTSTART:20170629T150000Z
DTEND:20170629T163000Z
X-MICROSOFT-CDO-ALLDAYEVENT:FALSE
SUMMARY:Contractors Breakfast - Working with Travis Air Force Base
DESCRIPTION:Presented by the Travis Regional Armed Forces Committee\n\nand sponsored by Travis Credit Union\,\n\nthis Contractors Breakfast will focus on learning how to do business with\n\nTravis Air Force Base.
X-ALT-DESC;FMTTYPE=text/html:<div style="text-align: center\;"><span style="color: rgb(75\, 79\, 86)\; font-family: Helvetica\, Arial\, sans-serif\; font-size: 14px\; background-color: rgb(255\, 255\, 255)\;">Presented by the Travis Regional Armed Forces Committee<br />\nand sponsored by Travis Credit Union\,<br />\nthis Contractors Breakfast will focus on learning how to do business with<br />\nTravis Air Force Base.&nbsp\;</span></div>\n<br />\n&nbsp\;
LOCATION:Hampton Inn & Suites 800 Mason Street Vacaville\, CA 95688
UID:e.1602.3543
SEQUENCE:3
DTSTAMP:20260426T004538Z
URL:https://business.fairfieldsuisunchamber.com/events/details/contractors-breakfast-working-with-travis-air-force-base-3543
END:VEVENT

END:VCALENDAR
