BEGIN:VCALENDAR
VERSION:2.0
PRODID:-//ChamberMaster//Event Calendar 2.0//EN
METHOD:PUBLISH
X-PUBLISHED-TTL:P3D
REFRESH-INTERVAL:P3D
CALSCALE:GREGORIAN
BEGIN:VEVENT
DTSTART:20190511T010000Z
DTEND:20190511T030000Z
X-MICROSOFT-CDO-ALLDAYEVENT:FALSE
SUMMARY:Country Western Theme- Wine Club Release Party
DESCRIPTION:Country Western Wine Club Release Party  \n\nFeaturing Live Music by \n\nLocked-n-Loaded Country Band \n\n\n\n****Country Theme****\n\n* Costume Contest\n\n* 1 Complimentary Glass of Wine\n\n* Food and Wine available to purchase\n\n* Complimentary Valet\n\n* Live Band Performance by Locked-n-Loaded\n\n* Must be 21 years or older\n\n\n\n\n\nNEW - Billing & Wine Pick Up Details\n\n* We are billing on\, May Club Shipment will be released the day of the event \n\n* Reserve your 2 complimentary tickets no later than 24 hours prior to the event.\n\nTickets at the door are $29 per member/$49 per member\n\n\n\nLocation: The Blue Victorian Winery\n\nTicket Details: Ticket sales end 24 hours prior to the event.\n\n* Tickets are non transferable - club member must be present\n\n* Only 21 years of age and older may attend \n\nFood Details: Food available for purchase at the event\, no outside food is allowed.\n\nWine Details: Wine is available for purchase\, not outside alcohol is allowed\n\nAll Vezer Wine Club Members \n\n* Receive 2 complimentary tickets to the event\n\n\n\nNon Member: General Admission\n\n"Vezer Day Pass" - $49.99 (valued at $80)\n\n* Includes 2 complimentary passes to the Wine & Live Music Event\n\n *2 complimentary wine tasting passes for a future date in our two tasting rooms during non event days. (voucher give at the door the day of the event only)\n\n\n\n* There is no cash value for the voucher. Credits/balance will not be given.\n\n* 48 hour cancellation policy for a refund\n\n \n\n\n\nCANCELLATION POLICY IN EFFECT\n\n'Cancellation policy   You must provide in writing via email no later than 48 hours prior to the event that you are unable to attend.  If you rsvp'd to the event and do not show you will be charged according to the retail price of the ticket for the event with your credit card on file. You will be charged full price\, No discounts will apply\, and no shows are nonrefundable. (VEZERSTOCK concert series $19.99\, Chieftain Gala $150.00\, Pick up Parties $29.00\, Port Tasting $15 - $25\, Dog Walk $10\, Karaoke Party $10). Staff members are not authorized to accept cancellations.'
X-ALT-DESC;FMTTYPE=text/html:<p style="margin-left:0px\; margin-right:0px\; text-align:center">Country Western Wine Club Release Party &nbsp\;</p>\n\n<p style="margin-left:0px\; margin-right:0px\; text-align:center">Featuring Live Music by&nbsp\;</p>\n\n<p style="margin-left:0px\; margin-right:0px\; text-align:center"><strong>Locked-n-Loaded Country Band&nbsp\;</strong><br />\n<br />\n****Country Theme****<br />\n* Costume Contest<br />\n* 1 Complimentary Glass of Wine<br />\n* Food and Wine&nbsp\;available to purchase<br />\n* Complimentary Valet<br />\n* Live Band Performance by Locked-n-Loaded</p>\n\n<p style="margin-left:0px\; margin-right:0px\; text-align:center">* Must be 21 years or older<br />\n<br />\n<br />\n<strong><u>NEW - Billing &amp\; Wine Pick Up Details</u></strong><br />\n* We are billing on\, May Club Shipment will be released the day of the event&nbsp\;<br />\n* Reserve your 2 complimentary tickets no later than 24 hours prior to the event.<br />\nTickets at the door are $29 per member/$49 per member<br />\n<br />\n<strong>Location:&nbsp\;</strong>The Blue Victorian Winery<br />\n<strong>Ticket Details</strong>:&nbsp\;Ticket sales end 24 hours prior to the event.<br />\n* Tickets are non transferable - club member must be present<br />\n* Only 21 years of age and older may attend&nbsp\;<br />\n<strong>Food Details:</strong>&nbsp\;Food available for purchase at the event\, no outside food is allowed.<br />\n<strong>Wine Details:&nbsp\;</strong>Wine is available for purchase\, not outside alcohol is allowed</p>\n\n<p style="margin-left:0px\; margin-right:0px\; text-align:center"><strong>All Vezer Wine Club Members&nbsp\;</strong><br />\n* Receive 2 complimentary tickets to the event</p>\n\n<p style="margin-left:0px\; margin-right:0px\; text-align:center"><br />\n<strong>Non Member: General Admission</strong><br />\n&quot\;Vezer Day Pass&quot\; - $49.99 (valued at $80)<br />\n* Includes 2 complimentary passes to the Wine &amp\; Live Music Event<br />\n&nbsp\;*2 complimentary wine tasting passes for a future date in our two tasting rooms during non event days. (voucher give at the door the day of the event only)<br />\n<br />\n* There is no cash value for the voucher. Credits/balance will not be given.<br />\n* 48 hour cancellation policy for a refund</p>\n\n<p style="margin-left:0px\; margin-right:0px\; text-align:center">&nbsp\;</p>\n\n<p style="margin-left:0px\; margin-right:0px\; text-align:center"><br />\n<strong><u>CANCELLATION POLICY IN EFFECT</u></strong><br />\n&#39\;Cancellation policy &ndash\; You must provide in writing via email no later than 48 hours prior to the event that you are unable to attend. &nbsp\;If you rsvp&#39\;d to the event and do not show you will be charged according to the retail price of the ticket for the event with your credit card on file. You will be charged full price\, No discounts will apply\, and no shows are nonrefundable. (VEZERSTOCK concert series $19.99\, Chieftain Gala $150.00\, Pick up Parties $29.00\, Port Tasting $15 - $25\, Dog Walk $10\, Karaoke Party $10). Staff members are not authorized to accept cancellations.&#39\;</p>\n
LOCATION:The Blue Victorian Winery
UID:e.1602.7031
SEQUENCE:3
DTSTAMP:20260424T115452Z
URL:https://business.fairfieldsuisunchamber.com/events/details/country-western-theme-wine-club-release-party-7031
END:VEVENT

END:VCALENDAR
