BEGIN:VCALENDAR
VERSION:2.0
PRODID:-//ChamberMaster//Event Calendar 2.0//EN
METHOD:PUBLISH
X-PUBLISHED-TTL:P3D
REFRESH-INTERVAL:P3D
CALSCALE:GREGORIAN
BEGIN:VEVENT
DTSTART:20180114T020000Z
DTEND:20180114T060000Z
X-MICROSOFT-CDO-ALLDAYEVENT:FALSE
SUMMARY:Crab Feed - Kiwanis Club of Fairfield
DESCRIPTION:Kiwanis Club of Fairfield's\n\n41st Annual\n\nCRAB FEED
X-ALT-DESC;FMTTYPE=text/html:<div style="text-align: center\;"><br />\n<br />\n<span style="font-size:48px\;">Kiwanis Club of Fairfield&#39\;s<br />\n41st Annual</span></div>\n\n<div style="text-align: center\;"><span style="font-size:48px\;">CRAB FEED</span></div>\n
LOCATION:Fairfield Community Center 1000 Kentucky Street Fairfield\, CA 94533
UID:e.1602.4092
SEQUENCE:3
DTSTAMP:20260425T133658Z
URL:https://business.fairfieldsuisunchamber.com/events/details/crab-feed-kiwanis-club-of-fairfield-4092
END:VEVENT

END:VCALENDAR
