BEGIN:VCALENDAR
VERSION:2.0
PRODID:-//ChamberMaster//Event Calendar 2.0//EN
METHOD:PUBLISH
X-PUBLISHED-TTL:P3D
REFRESH-INTERVAL:P3D
CALSCALE:GREGORIAN
BEGIN:VEVENT
DTSTART:20180710T160000Z
DTEND:20180710T180000Z
X-MICROSOFT-CDO-ALLDAYEVENT:FALSE
SUMMARY:Cup of Joe
DESCRIPTION:Free monthly event for all military. Enjoy coffee\, donuts and our aviation museum located at the Nut Tree Airport.
X-ALT-DESC;FMTTYPE=text/html:Free monthly event for all military. Enjoy coffee\, donuts and our aviation museum located at the Nut Tree Airport.
LOCATION:Center for Freedom and Flight 300 County Airport Rd. Ste C4 Vacaville\, CA 95688
UID:e.1602.6595
SEQUENCE:3
DTSTAMP:20260425T030828Z
URL:https://business.fairfieldsuisunchamber.com/events/details/cup-of-joe-6595
END:VEVENT

END:VCALENDAR
