BEGIN:VCALENDAR
VERSION:2.0
PRODID:-//ChamberMaster//Event Calendar 2.0//EN
METHOD:PUBLISH
X-PUBLISHED-TTL:P3D
REFRESH-INTERVAL:P3D
CALSCALE:GREGORIAN
BEGIN:VEVENT
DTSTART:20180714T210000Z
DTEND:20180715T000000Z
X-MICROSOFT-CDO-ALLDAYEVENT:FALSE
SUMMARY:"Cut Loose" performing at Seven Artisans Winery
DESCRIPTION:With members hailing from Chicago\, Oakland\, Berkeley\, Leeds\, and the mean streets of Orinda\, Cut Loose has music in their blood. East Bay local for 20+ years\, they have a huge repertoire of rock 'n roll\, R&B\, and rockin' blues tunes and wireless instruments with which to administer them\, joyfully and mercilessly\, throughout a dancing crowd.\n\n \n\nWith their talent and personality that is Hillary Lee's dynamite vocals\, searing guitar leads from British bluesman\, Steve McConnell\, and a solid\, groovin' rhythm section that is Jack Collins\, Dan Beck\, and Rand Stadtman\, they not only impress but solidly entertain.\n\n \n\nThe "Loose" in Cut Loose comes from the band's original name but also refers to the band's versatility. They easily move from Etta James to Ann Wilson (Heart)\, Johnny Guitar Watson to The Rolling Stones\, Muddy Waters to AC/DC\, Carrie Underwood to Aretha Franklin via a tight group of five musicians who have not only been playing together for lo\, these many years\, but still consistently rehearse weekly\, despite their busy performance schedule.\n\n \n\nIf you enjoy great music and entertainment this is a performance not to be missed.\n\nCome on out and "Cut Loose"!\n\n \n\n$15/person   includes Entertainment & one glass "First Flight" Wine\n\nReservations Recommended for Choice Seating\n\nCall/Text: (707)330-3806 or Online: www.sevenartisanswinery.com/events\n\nEmail: sevenartisanswinery@gmail.com\n\n*No outside alcoholic beverages* - 21+ to purchase alcohol!
X-ALT-DESC;FMTTYPE=text/html:With members hailing from Chicago\, Oakland\, Berkeley\, Leeds\, and the mean streets of Orinda\, Cut Loose has music in their blood. East Bay local for 20+ years\, they have a huge repertoire of rock &lsquo\;n roll\, R&amp\;B\, and rockin&#39\; blues tunes and wireless instruments with which to administer them\, joyfully and mercilessly\, throughout a dancing crowd.<br />\n&nbsp\;<br />\nWith their talent and personality that is Hillary Lee&rsquo\;s dynamite vocals\, searing guitar leads from British bluesman\, Steve McConnell\, and a solid\, groovin&#39\; rhythm section that is Jack Collins\, Dan Beck\, and Rand Stadtman\, they not only impress but solidly entertain.<br />\n&nbsp\;<br />\nThe &ldquo\;Loose&rdquo\; in Cut Loose comes from the band&rsquo\;s original name but also refers to the band&rsquo\;s versatility. They easily move from Etta James to Ann Wilson (Heart)\, Johnny Guitar Watson to The Rolling Stones\, Muddy Waters to AC/DC\, Carrie Underwood to Aretha Franklin via a tight group of five musicians who have not only been playing together for lo\, these many years\, but still consistently rehearse weekly\, despite their busy performance schedule.<br />\n&nbsp\;<br />\n<strong><em>If you enjoy great music and entertainment this is a performance not to be missed.</em></strong><br />\n<strong><em>Come on out and &ldquo\;Cut Loose&rdquo\;!</em></strong><br />\n&nbsp\;<br />\n$15/person &ndash\; includes Entertainment &amp\; one glass &ldquo\;First Flight&rdquo\; Wine<br />\nReservations Recommended for Choice Seating<br />\nCall/Text: (707)330-3806 or Online: www.sevenartisanswinery.com/events<br />\nEmail: sevenartisanswinery@gmail.com<br />\n*No outside alcoholic beverages* - 21+ to purchase alcohol!
LOCATION:Seven Artisans Winery 4341 Abernathy Road Fairfield\, Ca 94534
UID:e.1602.6599
SEQUENCE:3
DTSTAMP:20260425T031803Z
URL:https://business.fairfieldsuisunchamber.com/events/details/cut-loose-performing-at-seven-artisans-winery-6599
END:VEVENT

END:VCALENDAR
