BEGIN:VCALENDAR
VERSION:2.0
PRODID:-//ChamberMaster//Event Calendar 2.0//EN
METHOD:PUBLISH
X-PUBLISHED-TTL:P3D
REFRESH-INTERVAL:P3D
CALSCALE:GREGORIAN
BEGIN:VEVENT
DTSTART:20190317T210000Z
DTEND:20190318T000000Z
X-MICROSOFT-CDO-ALLDAYEVENT:FALSE
SUMMARY:CUT LOOSE rocks Seven Artisans Winery on St. Patrick's Day!
DESCRIPTION:Sunday\, March 17th \n\n2:00 - 5:00 PM\n\n \n\nSEVEN ARTISANS WINERY\n\n \n\nPresents a St. Patrick's Day \n\nperformance by:\n\n \n\nCUT LOOSE\n\n \n\n \n\n \n\nFood available from Fredrick's Catering\n\n \n\nPlease Join us for an afternoon of fantastic music\,\n\ndancing\,  fine food\, great people and fun!\n\n \n\n \n\nSeven Artisans Winery\n\n4341 Abernathy Road\n\nFairfield\, CA 94534\n\n \n\nReservations strongly suggested\n\nCall or text: (707) 771-0911\n\n \n\nNo outside alcohol permitted\n\n \n\nWe'll be outside in the sunshine!
X-ALT-DESC;FMTTYPE=text/html:<div style="text-align: center\;"><strong><span style="font-size:large"><span style="font-family:eras bold itc"><strong><span style="font-size:36pt"><span style="font-family:eras bold itc\,sans-serif">Sunday\, March 17<sup>th </sup></span></span></strong></span></span></strong><br />\n<strong><span style="font-size:large"><span style="font-family:eras bold itc"><strong><span style="font-size:26pt"><span style="font-family:eras bold itc\,sans-serif">2:00 - 5:00 PM</span></span></strong></span></span></strong><br />\n&nbsp\;<br />\n<strong><span style="font-size:large"><span style="font-family:eras bold itc"><strong><span style="font-size:36pt"><span style="font-family:eras bold itc\,sans-serif">SEVEN ARTISANS WINERY</span></span></strong></span></span></strong><br />\n&nbsp\;<br />\n<strong><em><span style="font-size:large"><span style="font-family:eras bold itc"><em><span style="font-size:26pt"><span style="font-family:eras bold itc\,sans-serif">Presents a St. Patrick&rsquo\;s Day </span></span></em></span></span></em></strong><br />\n<strong><em><span style="font-size:large"><span style="font-family:eras bold itc"><em><span style="font-size:26pt"><span style="font-family:eras bold itc\,sans-serif">performance by:</span></span></em></span></span></em></strong><br />\n&nbsp\;<br />\n<strong><em><span style="font-size:large"><span style="font-family:eras bold itc"><em><span style="font-size:72pt"><span style="font-family:eras bold itc\,sans-serif">CUT LOOSE</span></span></em></span></span></em></strong><br />\n&nbsp\;<br />\n&nbsp\;<br />\n&nbsp\;<br />\n<strong><span style="font-size:large"><span style="font-family:eras bold itc"><strong><span style="font-size:18pt"><span style="font-family:eras bold itc\,sans-serif">Food available from Fredrick&rsquo\;s Catering</span></span></strong></span></span></strong><br />\n&nbsp\;<br />\n<strong><em><span style="font-size:large"><span style="font-family:eras bold itc"><em><span style="font-size:14pt"><span style="font-family:eras bold itc\,sans-serif">Please Join us for an afternoon of fantastic music\,</span></span></em></span></span></em></strong><br />\n<strong><em><span style="font-size:large"><span style="font-family:eras bold itc"><em><span style="font-size:14pt"><span style="font-family:eras bold itc\,sans-serif">dancing\,&nbsp\; fine food\, great people and fun!</span></span></em></span></span></em></strong><br />\n&nbsp\;<br />\n&nbsp\;<br />\n<strong><span style="font-size:large"><span style="font-family:eras bold itc"><strong><span style="font-size:20pt"><span style="font-family:eras bold itc\,sans-serif">Seven Artisans Winery</span></span></strong></span></span></strong><br />\n<strong><span style="font-size:large"><span style="font-family:eras bold itc"><strong><span style="font-size:20pt"><span style="font-family:eras bold itc\,sans-serif">4341 Abernathy Road</span></span></strong></span></span></strong><br />\n<strong><span style="font-size:large"><span style="font-family:eras bold itc"><strong><span style="font-size:20pt"><span style="font-family:eras bold itc\,sans-serif">Fairfield\, CA 94534</span></span></strong></span></span></strong><br />\n&nbsp\;<br />\n<strong><span style="font-size:large"><span style="font-family:eras bold itc"><strong><span style="font-size:20pt"><span style="font-family:eras bold itc\,sans-serif">Reservations strongly suggested</span></span></strong></span></span></strong><br />\n<strong><span style="font-size:large"><span style="font-family:eras bold itc"><strong><span style="font-size:20pt"><span style="font-family:eras bold itc\,sans-serif">Call or text: (707) 771-0911</span></span></strong></span></span></strong><br />\n&nbsp\;<br />\n<strong><span style="font-size:large"><span style="font-family:eras bold itc"><strong><span style="font-size:20pt"><span style="font-family:eras bold itc\,sans-serif">No outside alcohol permitted</span></span></strong></span></span></strong><br />\n&nbsp\;<br />\n<strong><span style="font-size:large"><span style="font-family:eras bold itc"><strong><span style="font-size:14pt"><span style="font-family:eras bold itc\,sans-serif">We&rsquo\;ll be outside in the sunshine!</span></span></strong></span></span></strong><br />\n&nbsp\;<br />\n&nbsp\;<br />\n&nbsp\;<br />\n&nbsp\;<br />\n&nbsp\;<br />\n&nbsp\;<br />\n&nbsp\;</div>\n
LOCATION:Seven Artisans Winery 4341 Abernathy Road Fairfield\, CA 94534
UID:e.1602.7027
SEQUENCE:3
DTSTAMP:20260424T144156Z
URL:https://business.fairfieldsuisunchamber.com/events/details/cut-loose-rocks-seven-artisans-winery-on-st-patrick-s-day-7027
END:VEVENT

END:VCALENDAR
