BEGIN:VCALENDAR
VERSION:2.0
PRODID:-//ChamberMaster//Event Calendar 2.0//EN
METHOD:PUBLISH
X-PUBLISHED-TTL:P3D
REFRESH-INTERVAL:P3D
CALSCALE:GREGORIAN
BEGIN:VEVENT
DTSTART:20190511T170000Z
DTEND:20190511T220000Z
X-MICROSOFT-CDO-ALLDAYEVENT:FALSE
SUMMARY:Diablo Valley College Car Show
DESCRIPTION:Diablo Valley College Car Show\n\nSaturday\, May 11th   10am-3pm\n\n\nSee all the classic and cutting-edge cars\, from the roadster to the muscle at this signature car shwo that's free to spectators! Plus\, there will be machine shop tours\, food\, prizes\, and live music. All proceeds benefit the Advanced Manufacturing Program at Diablo Valley College.
X-ALT-DESC;FMTTYPE=text/html:<div style="text-align: center\;"><br />\n<strong><span style="font-size:26px\;">Diablo Valley College Car Show</span></strong><br />\n<em><span style="font-size:18px\;">Saturday\, May 11th&nbsp\;&bull\; 10am-3pm</span></em></div>\n<br />\n<span style="font-size:16px\;">See all the classic and cutting-edge cars\, from the roadster to the muscle at this signature car shwo that&#39\;s free to spectators! Plus\, there will be machine shop tours\, food\, prizes\, and live music. All proceeds benefit the Advanced Manufacturing Program at Diablo Valley College.</span>
LOCATION:Diablo Valley College 201 Viking Dr Pleasant Hill\, CA 94523
UID:e.1602.7073
SEQUENCE:3
DTSTAMP:20260424T114249Z
URL:https://business.fairfieldsuisunchamber.com/events/details/diablo-valley-college-car-show-7073
END:VEVENT

END:VCALENDAR
