BEGIN:VCALENDAR
VERSION:2.0
PRODID:-//ChamberMaster//Event Calendar 2.0//EN
METHOD:PUBLISH
X-PUBLISHED-TTL:P3D
REFRESH-INTERVAL:P3D
CALSCALE:GREGORIAN
BEGIN:VEVENT
DTSTART:20180130T171500Z
DTEND:20180130T183000Z
X-MICROSOFT-CDO-ALLDAYEVENT:FALSE
SUMMARY:Discover Your Next Level
DESCRIPTION:In just one hour\, a Peak Performance Strategist from Tony Robbins can create an immediate shift in your performance.
X-ALT-DESC;FMTTYPE=text/html:In just one hour\, a Peak Performance Strategist from Tony Robbins&nbsp\;can create an immediate shift in your performance.
LOCATION:Fuddruckers 1740 Travis Blvd.\, Fairfield
UID:e.1602.4121
SEQUENCE:3
DTSTAMP:20260425T131455Z
URL:https://business.fairfieldsuisunchamber.com/events/details/discover-your-next-level-4121
END:VEVENT

END:VCALENDAR
