BEGIN:VCALENDAR
VERSION:2.0
PRODID:-//ChamberMaster//Event Calendar 2.0//EN
METHOD:PUBLISH
X-PUBLISHED-TTL:P3D
REFRESH-INTERVAL:P3D
CALSCALE:GREGORIAN
BEGIN:VEVENT
DTSTART:20190420T210000Z
DTEND:20190421T000000Z
X-MICROSOFT-CDO-ALLDAYEVENT:FALSE
SUMMARY:DW Edwards & Lighting up the Soul play Seven Artisans Winery
DESCRIPTION:Saturday\, April 20th  \n\n \n\n2:00   5:00\n\n \n\nSEVEN ARTISANS WINERY\n\n \n\nPresents:\n\n \n\nDW Edwards & \n\nLighting up the Soul\n\n \n\n$15 includes one glass of wine\n\n \n\nFood available from Fredrick's Catering\n\n \n\nJoin us for an afternoon of fantastic music\,\n\nFine cuisine\, dancing\, great people and fun!\n\n \n\n \n\nSeven Artisans Winery\n\n4341 Abernathy Road\n\nFairfield\, CA 94534\n\n \n\nCall or text for reservations:\n\n(707) 771-0911\n\neckerbob@mindspring.com\n\n \n\nNo outside alcohol permitted
X-ALT-DESC;FMTTYPE=text/html:<div style="text-align: center\;"><strong><span style="font-size:large"><span style="font-family:times new roman"><strong><span style="font-family:times new roman\,serif"><span style="font-size:26.0pt">Saturday\, April 20<sup>th</sup>&nbsp\; </span></span></strong></span></span></strong><br />\n&nbsp\;<br />\n<strong><span style="font-size:large"><span style="font-family:times new roman"><strong><span style="font-family:times new roman\,serif"><span style="font-size:26.0pt">2:00 &ndash\; 5:00</span></span></strong></span></span></strong><br />\n&nbsp\;<br />\n<strong><span style="font-size:large"><span style="font-family:times new roman"><strong><span style="font-family:times new roman\,serif"><span style="font-size:28.0pt">SEVEN ARTISANS WINERY</span></span></strong></span></span></strong><br />\n&nbsp\;<br />\n<strong><span style="font-size:large"><span style="font-family:times new roman"><strong><span style="font-family:times new roman\,serif"><span style="font-size:18.0pt">Presents:</span></span></strong></span></span></strong><br />\n&nbsp\;<br />\n<strong><span style="font-size:large"><span style="font-family:times new roman"><strong><span style="font-family:times new roman\,serif"><span style="font-size:48.0pt">DW Edwards &amp\; </span></span></strong></span></span></strong><br />\n<strong><span style="font-size:large"><span style="font-family:times new roman"><strong><span style="font-family:times new roman\,serif"><span style="font-size:48.0pt">Lighting up the Soul</span></span></strong></span></span></strong><br />\n&nbsp\;<br />\n<strong><em><span style="font-size:large"><span style="font-family:times new roman"><em><span style="font-family:times new roman\,serif"><span style="font-size:14.0pt">$15 includes one glass of wine</span></span></em></span></span></em></strong><br />\n&nbsp\;<br />\n<strong><em><span style="font-size:large"><span style="font-family:times new roman"><em><span style="font-family:times new roman\,serif"><span style="font-size:18.0pt">Food available from Fredrick&rsquo\;s Catering</span></span></em></span></span></em></strong><br />\n&nbsp\;<br />\n<strong><em><span style="font-size:large"><span style="font-family:times new roman"><em><span style="font-family:times new roman\,serif"><span style="font-size:14.0pt">Join us for an afternoon of fantastic music\,</span></span></em></span></span></em></strong><br />\n<strong><em><span style="font-size:large"><span style="font-family:times new roman"><em><span style="font-family:times new roman\,serif"><span style="font-size:14.0pt">Fine cuisine\, dancing\, great people and fun!</span></span></em></span></span></em></strong><br />\n&nbsp\;<br />\n&nbsp\;<br />\n<strong><span style="font-size:large"><span style="font-family:times new roman"><strong><span style="font-family:times new roman\,serif"><span style="font-size:20.0pt">Seven Artisans Winery</span></span></strong></span></span></strong><br />\n<strong><span style="font-size:large"><span style="font-family:times new roman"><strong><span style="font-family:times new roman\,serif"><span style="font-size:20.0pt">4341 Abernathy Road</span></span></strong></span></span></strong><br />\n<strong><span style="font-size:large"><span style="font-family:times new roman"><strong><span style="font-family:times new roman\,serif"><span style="font-size:20.0pt">Fairfield\, CA 94534</span></span></strong></span></span></strong><br />\n&nbsp\;<br />\n<strong><span style="font-size:large"><span style="font-family:times new roman"><strong><span style="font-family:times new roman\,serif"><span style="font-size:20.0pt">Call or text for reservations:</span></span></strong></span></span></strong><br />\n<strong><span style="font-size:large"><span style="font-family:times new roman"><strong><span style="font-family:times new roman\,serif"><span style="font-size:20.0pt">(707) 771-0911</span></span></strong></span></span></strong><br />\n<strong><span style="font-size:large"><span style="font-family:times new roman"><strong><span style="font-family:times new roman\,serif"><span style="font-size:20.0pt"><a href="mailto:eckerbob@mindspring.com">eckerbob@mindspring.com</a></span></span></strong></span></span></strong><br />\n&nbsp\;<br />\n<strong><span style="font-size:large"><span style="font-family:times new roman"><strong><span style="font-family:times new roman\,serif"><span style="font-size:20.0pt">No outside alcohol permitted</span></span></strong></span></span></strong><br />\n&nbsp\;<br />\n&nbsp\;<br />\n&nbsp\;<br />\n&nbsp\;</div>\n\n<h1>&nbsp\;</h1>\n
LOCATION:Seven Artisans Winery 4341 Abernathy Road Fairfield\, CA 94534
UID:e.1602.7071
SEQUENCE:3
DTSTAMP:20260424T132716Z
URL:https://business.fairfieldsuisunchamber.com/events/details/dw-edwards-lighting-up-the-soul-play-seven-artisans-winery-04-20-2019-7071
END:VEVENT

END:VCALENDAR
