BEGIN:VCALENDAR
VERSION:2.0
PRODID:-//ChamberMaster//Event Calendar 2.0//EN
METHOD:PUBLISH
X-PUBLISHED-TTL:P3D
REFRESH-INTERVAL:P3D
CALSCALE:GREGORIAN
BEGIN:VEVENT
DTSTART:20170814T190000Z
DTEND:20170915T190000Z
X-MICROSOFT-CDO-ALLDAYEVENT:FALSE
SUMMARY:Embry-Riddle Coat Drive
DESCRIPTION:The Embry-Riddle Travis Campus and all worldwide campuses are collecting new or gently used coats/jackets for families in need in our prospective local communities. The collection sites are the ERAU Travis Campus\, Travis AFB Airmen & Family Readiness Center\, & Travis Education Office. If you do not have base access please contact us to arrange a pickup. Help us reach our goal of 1200 coats. Thank you!
X-ALT-DESC;FMTTYPE=text/html:The Embry-Riddle Travis Campus and all worldwide campuses are collecting new or gently used coats/jackets for families in need in our prospective local communities. The collection sites are the ERAU Travis Campus\, Travis AFB Airmen &amp\; Family Readiness Center\, &amp\; Travis Education Office. If you do not have base access please contact us to arrange a pickup. Help us reach our goal of 1200 coats. Thank you!
LOCATION:Embry-Riddle Travis Campus and all worldwide locations
UID:e.1602.3588
SEQUENCE:3
DTSTAMP:20260425T195949Z
URL:https://business.fairfieldsuisunchamber.com/events/details/embry-riddle-coat-drive-3588
END:VEVENT

END:VCALENDAR
