BEGIN:VCALENDAR
VERSION:2.0
PRODID:-//ChamberMaster//Event Calendar 2.0//EN
METHOD:PUBLISH
X-PUBLISHED-TTL:P3D
REFRESH-INTERVAL:P3D
CALSCALE:GREGORIAN
BEGIN:VEVENT
DTSTART:20180717T180000Z
DTEND:20180717T210000Z
X-MICROSOFT-CDO-ALLDAYEVENT:FALSE
SUMMARY:Embry-Riddle Summer Bash FREE
DESCRIPTION:The Travis AFB Education Center & Embry-Riddle Aeronautical University invite you to stop by our Summer Bash Open House July 17\, 2018 from 11am-2pm for some yummy BBQ\, drinks\, DJ\, and giveaways. (while supplies last) Enjoy your free lunch\, the music\, and learn about educational opportunities available to help you take your career to the next level. Education representatives from Embry-Riddle Aeronautical University\, Brandman University\, UMUC\, & Solano Community College\, and the VA will be in attendance to answer your questions. Families welcome!
X-ALT-DESC;FMTTYPE=text/html:The Travis AFB Education Center &amp\; Embry-Riddle Aeronautical University invite you to stop by our Summer Bash Open House July 17\, 2018 from 11am-2pm for some yummy BBQ\, drinks\, DJ\, and giveaways. (while supplies last) Enjoy your free lunch\, the music\, and learn about educational opportunities available to help you take your career to the next level. Education representatives from Embry-Riddle Aeronautical University\, Brandman University\, UMUC\, &amp\; Solano Community College\, and the VA will be in attendance to answer your questions. Families welcome!
LOCATION:Travis AFB Education Center 530 Hickam Ave.\, Bldg 249 Travis AFB\, CA 94535
UID:e.1602.5561
SEQUENCE:3
DTSTAMP:20260425T031906Z
URL:https://business.fairfieldsuisunchamber.com/events/details/embry-riddle-summer-bash-free-5561
END:VEVENT

END:VCALENDAR
