BEGIN:VCALENDAR
VERSION:2.0
PRODID:-//ChamberMaster//Event Calendar 2.0//EN
METHOD:PUBLISH
X-PUBLISHED-TTL:P3D
REFRESH-INTERVAL:P3D
CALSCALE:GREGORIAN
BEGIN:VEVENT
DTSTART:20181030T180000Z
DTEND:20181030T190000Z
X-MICROSOFT-CDO-ALLDAYEVENT:FALSE
SUMMARY:ERAU Berlin Airlift Webinar & Luncheon
DESCRIPTION:Join the Embry-Riddle Aeronautical University Travis Campus for a free webinar luncheon on the 70th Anniversary of the Berlin Airlift\, it's history\, and legacy. All local attendees at the Travis Campus can enjoy a free lunch as well and the event is open to everyone. If you wish to attend please RSVP by OCT 29th to travis@erau.edu. Hope to see you there!
X-ALT-DESC;FMTTYPE=text/html:Join the Embry-Riddle Aeronautical University Travis Campus for a free webinar luncheon on the 70th Anniversary of the Berlin Airlift\, it&#39\;s history\, and legacy. All local attendees at the Travis Campus can enjoy a free lunch as well and the event is open to everyone. If you wish to attend please RSVP by OCT 29th to travis@erau.edu. Hope to see you there!
LOCATION:Embry-Riddle Aeronautical University Travis Campus\, 530 Hickam Ave\, Bldg. 249\, Travis AFB\, CA 94535
UID:e.1602.6694
SEQUENCE:3
DTSTAMP:20260424T225108Z
URL:https://business.fairfieldsuisunchamber.com/events/details/erau-berlin-airlift-webinar-luncheon-6694
END:VEVENT

END:VCALENDAR
