BEGIN:VCALENDAR
VERSION:2.0
PRODID:-//ChamberMaster//Event Calendar 2.0//EN
METHOD:PUBLISH
X-PUBLISHED-TTL:P3D
REFRESH-INTERVAL:P3D
CALSCALE:GREGORIAN
BEGIN:VEVENT
DTSTART:20190115T200000Z
DTEND:20190115T210000Z
X-MICROSOFT-CDO-ALLDAYEVENT:FALSE
SUMMARY:ERAU Pilot Shortage 2.0 Lunch & Learn
DESCRIPTION:Join us at the Embry-Riddle Aeronautical University Travis Campus January 15th at 12pm for a free lunch and learn webinar on the current state of the pilot shortage in our nation. This webinar will be an expert panel discussion on the pilot shortage\, how the industry is responding\, and what the job outlook is like. This is great for those aspiring to be pilots to hear from experts in aviation. All attendees at the Travis Campus will be provided a free lunch. Please RSVP by Monday\, January 14th to travis@erau.edu.
X-ALT-DESC;FMTTYPE=text/html:Join us at the Embry-Riddle Aeronautical University Travis Campus January 15th at 12pm for a free lunch and learn webinar on the current state of the pilot shortage in our nation. This webinar will be an expert panel discussion on the pilot shortage\, how the industry is responding\, and what the job outlook is like. This is great for those aspiring to be pilots to hear from experts in aviation. All attendees at the Travis Campus will be provided a free lunch. Please RSVP by Monday\, January 14th to travis@erau.edu.
LOCATION:Embry-Riddle Aeronautical University Travis Campus\, 530 Hickam Ave\, Travis AFB\, CA
UID:e.1602.6968
SEQUENCE:3
DTSTAMP:20260424T174859Z
URL:https://business.fairfieldsuisunchamber.com/events/details/erau-pilot-shortage-2-0-lunch-learn-6968
END:VEVENT

END:VCALENDAR
