BEGIN:VCALENDAR
VERSION:2.0
PRODID:-//ChamberMaster//Event Calendar 2.0//EN
METHOD:PUBLISH
X-PUBLISHED-TTL:P3D
REFRESH-INTERVAL:P3D
CALSCALE:GREGORIAN
BEGIN:VEVENT
DTSTART:20180928T010000Z
DTEND:20180928T020000Z
X-MICROSOFT-CDO-ALLDAYEVENT:FALSE
SUMMARY:Fairfield City Candidates Forum
DESCRIPTION:Join the Political Action Committee (PAC) for an opportunity to meet and hear from the Fairfield City Council Candidates.
X-ALT-DESC;FMTTYPE=text/html:Join the Political Action Committee (PAC) for an opportunity to meet and hear from the Fairfield City Council Candidates.&nbsp\;
LOCATION:Fairfield Council Chambers 1000 Webster St.\, Fairfield
UID:e.1602.6630
SEQUENCE:3
DTSTAMP:20260424T235751Z
URL:https://business.fairfieldsuisunchamber.com/events/details/fairfield-city-candidates-forum-6630
END:VEVENT

END:VCALENDAR
