BEGIN:VCALENDAR
VERSION:2.0
PRODID:-//ChamberMaster//Event Calendar 2.0//EN
METHOD:PUBLISH
X-PUBLISHED-TTL:P3D
REFRESH-INTERVAL:P3D
CALSCALE:GREGORIAN
BEGIN:VEVENT
DTSTART:20220625T010000Z
DTEND:20220625T040000Z
X-MICROSOFT-CDO-ALLDAYEVENT:FALSE
SUMMARY:Fairfield Free Summer Music Series
DESCRIPTION:Free Concert Downtown Fairfield Featuring Beaufunk!\n\nFriday\, June 24th at 6PM\n\nCorner of W. Texas & Jefferson
X-ALT-DESC;FMTTYPE=text/html:<div style="text-align: center\;"><span style="font-size:14px"><strong>Free Concert Downtown Fairfield Featuring Beaufunk!<br />\nFriday\, June 24th at 6PM<br />\nCorner of W. Texas &amp\; Jefferson</strong></span><br />\n<br />\n&nbsp\;</div>\n
LOCATION:W Texas St & Jefferson St\, Fairfield\, CA 94533
UID:e.1602.7704
SEQUENCE:3
DTSTAMP:20260420T001915Z
URL:https://business.fairfieldsuisunchamber.com/events/details/fairfield-free-summer-music-series-7704
END:VEVENT

END:VCALENDAR
