BEGIN:VCALENDAR
VERSION:2.0
PRODID:-//ChamberMaster//Event Calendar 2.0//EN
METHOD:PUBLISH
X-PUBLISHED-TTL:P3D
REFRESH-INTERVAL:P3D
CALSCALE:GREGORIAN
BEGIN:VEVENT
DTSTART:20191218T180000Z
DTEND:20191218T193000Z
X-MICROSOFT-CDO-ALLDAYEVENT:FALSE
SUMMARY:Fairfield NARFE Holiday Party
DESCRIPTION:NARFE chapter 1529 invites Retired and Active federal employees to the chapter's Holiday party. The chapter is furnishing the meal. If you want to participate in the optional gift exchange\, bring a wrapped gift (value around $10). The event will start at 10 am. Plenty of time for mingling.
X-ALT-DESC;FMTTYPE=text/html:NARFE chapter 1529 invites Retired and Active federal employees to the chapter&#39\;s Holiday party. The chapter is furnishing the meal. If you want to participate in the optional gift exchange\, bring a wrapped gift (value around $10). The event will start at 10 am. Plenty of time for mingling.
LOCATION:Benicia Grill II 2390 N Texas St.\, Fairfield\, CA
UID:e.1602.7389
SEQUENCE:3
DTSTAMP:20260424T005249Z
URL:https://business.fairfieldsuisunchamber.com/events/details/fairfield-narfe-holiday-party-7389
END:VEVENT

END:VCALENDAR
