BEGIN:VCALENDAR
VERSION:2.0
PRODID:-//ChamberMaster//Event Calendar 2.0//EN
METHOD:PUBLISH
X-PUBLISHED-TTL:P3D
REFRESH-INTERVAL:P3D
CALSCALE:GREGORIAN
BEGIN:VEVENT
DTSTART;VALUE=DATE:20190413
DTEND;VALUE=DATE:20190414
TRANSP:TRANSPARENT
X-MICROSOFT-CDO-ALLDAYEVENT:TRUE
SUMMARY:Fairfield Neighborhood "Trash Mob" Community Clean-Up Day
DESCRIPTION:The City of Fairfield will be hosting the first of four Neighborhood "Trash Mob" Community Clean-Up Days on Saturday\, April 13\, 2019.\n\nThe City of Fairfield will provide all necessary supplies and safety gear to community organizations and volunteer groups during the Trash Mob Community Clean-Ups.\n\n\n\nHOW DO WE SIGN-UP?\n\nPlease email or call Parks & Recreation Community Outreach and Engagement Manger Jeremy Profitt at jprofitt@fairfield.ca.gov or 707.428.7420. Information will also be disseminated two weeks prior on various Social Media platforms.
X-ALT-DESC;FMTTYPE=text/html:<p style="margin: 6px 0px\; font-family: Helvetica\, Arial\, sans-serif\; color: rgb(29\, 33\, 41)\; font-size: 14px\;">The City of Fairfield will be hosting the first of four Neighborhood &quot\;Trash Mob&quot\; Community Clean-Up Days on Saturday\, April 13\, 2019.</p>\n\n<p style="margin: 6px 0px\; font-family: Helvetica\, Arial\, sans-serif\; color: rgb(29\, 33\, 41)\; font-size: 14px\;">The City of Fairfield will provide all necessary supplies and safety gear to community organizations and volunteer groups during the Trash Mob Community Clean-Ups.<br />\n<br />\n<span style="color: rgb(29\, 33\, 41)\; font-family: Helvetica\, Arial\, sans-serif\; font-size: 14px\;">HOW DO WE SIGN-UP?</span><br style="color: rgb(29\, 33\, 41)\; font-family: Helvetica\, Arial\, sans-serif\; font-size: 14px\;" />\n<span style="color: rgb(29\, 33\, 41)\; font-family: Helvetica\, Arial\, sans-serif\; font-size: 14px\;">Please email or call Parks &amp\; Recreation Community Outreach and Engagement Manger Jeremy Profitt at&nbsp\;</span><a href="mailto:jprofitt@fairfield.ca.gov" style="color: rgb(17\, 85\, 204)\; font-family: Helvetica\, Arial\, sans-serif\; font-size: 14px\;" target="_blank">jprofitt@fairfield.ca.gov</a><span style="color: rgb(29\, 33\, 41)\; font-family: Helvetica\, Arial\, sans-serif\; font-size: 14px\;">&nbsp\;or 707.428.7420. Information will also be disseminated two weeks prior on various Social Media platforms.</span></p>\n
LOCATION:HOW WILL THE CITY NOTIFY ORGANIZATIONS AND VOLUNTEER GROUPS? The City will notify all organizations and volunteer groups signed-up via email and phone calls two weeks before assigned clean-up dates. You will receive the check-in location at that time. Just like a flash mob it's a secret! The City will also post assigned clean-up dates and information on various City platforms to include Social Media using the hashtag #FairfieldTrashMobto solicit City clean-up efforts. Organizations and volunteer groups may also sign-up in advance for any of the four designated clean-up dates.
UID:e.1602.7050
SEQUENCE:3
DTSTAMP:20260424T131905Z
URL:https://business.fairfieldsuisunchamber.com/events/details/fairfield-neighborhood-trash-mob-community-clean-up-day-7050
END:VEVENT

END:VCALENDAR
