BEGIN:VCALENDAR
VERSION:2.0
PRODID:-//ChamberMaster//Event Calendar 2.0//EN
METHOD:PUBLISH
X-PUBLISHED-TTL:P3D
REFRESH-INTERVAL:P3D
CALSCALE:GREGORIAN
BEGIN:VEVENT
DTSTART;VALUE=DATE:20210527
DTEND;VALUE=DATE:20210528
TRANSP:TRANSPARENT
X-MICROSOFT-CDO-ALLDAYEVENT:TRUE
SUMMARY:Fairfield-Suisun Chamber Golf Classic 2021
DESCRIPTION:Fairfield-Suisun Chamber of Commerce 2021 Golf Classic is back!!\n\n\n\nThursday\, May 27\, 2021\n\n\n\nLocation will be Rancho Solano Golf Course and registration will start at 8 am.\n\nShotgun starts at 9 am.\n\n\n\nFOR MORE INFORMATION\, CONTACT DEBI AT 707-425-4625 OR DEBI@FAIRFIELDSUISUNCHAMBER.COM.\n\nCOMPLETED FORMS CAN BE MAILED OR EMAILED\n\n\n\nFAIRFIELD-SUISUN CHAMBER OF COMMERCE | 1111 WEBSTER STREET | FAIRFIELD\, CA 94533 | 707-425-4625 |\n\nFAIRFIELDSUISUNCHAMBER.COM
X-ALT-DESC;FMTTYPE=text/html:<strong>Fairfield-Suisun Chamber of Commerce 2021 Golf Classic is back!!</strong><br />\n<br />\nThursday\, May 27\, 2021<br />\n<br />\nLocation will be Rancho Solano Golf Course and registration will start at 8 am.<br />\nShotgun starts at 9 am.<br />\n<br />\n<strong>FOR MORE INFORMATION\, CONTACT DEBI AT 707-425-4625 OR DEBI@FAIRFIELDSUISUNCHAMBER.COM.<br />\nCOMPLETED FORMS CAN BE MAILED OR EMAILED</strong><br />\n<br />\nFAIRFIELD-SUISUN CHAMBER OF COMMERCE | 1111 WEBSTER STREET | FAIRFIELD\, CA 94533 | 707-425-4625 |<br />\nFAIRFIELDSUISUNCHAMBER.COM
LOCATION:Rancho Solano Golf Course
UID:e.1602.7492
SEQUENCE:3
DTSTAMP:20260422T212245Z
URL:https://business.fairfieldsuisunchamber.com/events/details/fairfield-suisun-chamber-golf-classic-2021-7492
END:VEVENT

END:VCALENDAR
