BEGIN:VCALENDAR
VERSION:2.0
PRODID:-//ChamberMaster//Event Calendar 2.0//EN
METHOD:PUBLISH
X-PUBLISHED-TTL:P3D
REFRESH-INTERVAL:P3D
CALSCALE:GREGORIAN
BEGIN:VEVENT
DTSTART:20220513T150000Z
DTEND:20220513T220000Z
X-MICROSOFT-CDO-ALLDAYEVENT:FALSE
SUMMARY:Golf Classic
DESCRIPTION:THE EVENT IS NOW CLOSED\, NO FURTHER TICKETS/SPONSORHSIP ARE AVAILABLE FOR PURCHASE.\n\n \n\nWe appreciate all the participants for this year's golf classic with the Fairfield-Suisun Chamber of Commerce. We look forward to seeing you all at tomorrow's event. For those of you who may have missed the opportunity to participate\, please keep an eye out on next year's event calendar and make sure to sign up right away!
X-ALT-DESC;FMTTYPE=text/html:<p class="_04xlpA direction-ltr align-start para-style-body" style="--font-size:24.3479px\; --line-height:1.4\; text-transform: uppercase\; line-height: 34px\;"><strong><span style="color:red\;"><span style="font-size:16.0pt\;">THE EVENT IS NOW CLOSED\, NO FURTHER TICKETS/SPONSORHSIP ARE AVAILABLE FOR PURCHASE.</span></span></strong><br />\n&nbsp\;<br />\nWe appreciate all the participants for this year&rsquo\;s golf classic with the Fairfield-Suisun Chamber of Commerce. We look forward to seeing you all at tomorrow&rsquo\;s event. For those of you who may have missed the opportunity to participate\, please keep an eye out on next year&rsquo\;s event calendar and make sure to sign up right away!<br />\n&nbsp\;</p>\n
LOCATION:Rancho Solano Golf Course 3250 Rancho Solano Pkwy\, Fairfield\, CA 94534
UID:e.1602.7539
SEQUENCE:3
DTSTAMP:20260420T014130Z
URL:https://business.fairfieldsuisunchamber.com/events/details/fairfield-suisun-golf-classic-7539
END:VEVENT

END:VCALENDAR
