BEGIN:VCALENDAR
VERSION:2.0
PRODID:-//ChamberMaster//Event Calendar 2.0//EN
METHOD:PUBLISH
X-PUBLISHED-TTL:P3D
REFRESH-INTERVAL:P3D
CALSCALE:GREGORIAN
BEGIN:VEVENT
DTSTART:20220919T173000Z
DTEND:20220920T010000Z
X-MICROSOFT-CDO-ALLDAYEVENT:FALSE
SUMMARY:Fairfield-Suisun Rotary Club Outhouse Open Golf Tournament
DESCRIPTION:The longest continuing fundraising golf tournament in Solano County raises funds to support the Fairfield-Suisun Rotary Club's many community-benefitting activities.
X-ALT-DESC;FMTTYPE=text/html:The longest continuing fundraising golf tournament in Solano County raises funds to support the Fairfield-Suisun Rotary Club&#39\;s many community-benefitting activities.
LOCATION:Green Valley Country Club
UID:e.1602.7783
SEQUENCE:3
DTSTAMP:20260419T194235Z
URL:https://business.fairfieldsuisunchamber.com/events/details/fairfield-suisun-rotary-club-outhouse-open-golf-tournament-7783
END:VEVENT

END:VCALENDAR
