BEGIN:VCALENDAR
VERSION:2.0
PRODID:-//ChamberMaster//Event Calendar 2.0//EN
METHOD:PUBLISH
X-PUBLISHED-TTL:P3D
REFRESH-INTERVAL:P3D
CALSCALE:GREGORIAN
BEGIN:VEVENT
DTSTART:20190927T170000Z
DTEND:20190927T180000Z
X-MICROSOFT-CDO-ALLDAYEVENT:FALSE
SUMMARY:Fairfield-Vacaville Hannigan Station Dedication
DESCRIPTION:Save the Date!\n\n\n\nFairfield-Vacaville Hannigan Station Dedication\n\n\nOn September 27th\, the Capitol Corrido Joint Powers Authority (CCJPA)\, County of Solano\, Cities of Fairfield and Vacaville\, and the Solano Transportation Authority (STA) plan to celebrate the life\, leadership\, and vision of former California State Legislator and lifelong Solano County advocate\, Tom Hannigan\, with the dedication of the Fairfield-Vacaville Hannigan Station.
X-ALT-DESC;FMTTYPE=text/html:<div style="text-align: center\;"><br />\n<br />\n<strong><span style="font-size:20px\;">Save the Date!<br />\n<br />\nFairfield-Vacaville Hannigan Station Dedication</span></strong></div>\n<br />\n<span style="font-size:16px\;">On September 27<span style="font-size:14px\;"><sup>th</sup></span>\, the Capitol Corrido Joint Powers Authority (CCJPA)\, County of Solano\, Cities of Fairfield and Vacaville\, and the Solano Transportation Authority (STA) plan to celebrate the life\, leadership\, and vision of former California State Legislator and lifelong Solano County advocate\, Tom Hannigan\, with the dedication of the Fairfield-Vacaville Hannigan Station.</span>
LOCATION:
UID:e.1602.7275
SEQUENCE:3
DTSTAMP:20260424T053619Z
URL:https://business.fairfieldsuisunchamber.com/events/details/fairfield-vacaville-hannigan-station-dedication-7275
END:VEVENT

END:VCALENDAR
