BEGIN:VCALENDAR
VERSION:2.0
PRODID:-//ChamberMaster//Event Calendar 2.0//EN
METHOD:PUBLISH
X-PUBLISHED-TTL:P3D
REFRESH-INTERVAL:P3D
CALSCALE:GREGORIAN
BEGIN:VEVENT
DTSTART:20200615T170000Z
DTEND:20200615T180000Z
X-MICROSOFT-CDO-ALLDAYEVENT:FALSE
SUMMARY:Fitness Centers/Bars/Hotels/Galleries Small Business Reopening Checklist Advisory Workshop
DESCRIPTION:In this webinar Heather Henry\, President/ Executive Director of the Workforce Development Board of Solano County\, and Tim Murrill\, Director of the Solano SBDC\, will provide an overview of the new State and County requirements for fitness centers\, bars\, hotels and galleries to reopen their business safely and in full compliance. This session will also include sharing of multiple resources to help you with planning and getting additional assistance with your reopening process.\n\n\n\nWhen: Jun 15\, 2020 10:00 AM\n\n\n\nRegister at: https://bit.ly/2zqw4sA
X-ALT-DESC;FMTTYPE=text/html:In this webinar Heather Henry\, President/ Executive Director of the Workforce Development Board of Solano County\, and Tim Murrill\, Director of the Solano SBDC\, will provide an overview of the new State and County requirements for fitness centers\, bars\, hotels and galleries to reopen their business safely and in full compliance. This session will also include sharing of multiple resources to help you with planning and getting additional assistance with your reopening process.<br />\n<br />\n<strong>When:</strong> Jun 15\, 2020 10:00 AM<br />\n<br />\n<strong>Register at:</strong> <a href="https://bit.ly/2zqw4sA" target="_blank">https://bit.ly/2zqw4sA</a>
LOCATION:Via Zoom: https://bit.ly/2zqw4sA
UID:e.1602.7468
SEQUENCE:3
DTSTAMP:20260423T151247Z
URL:https://business.fairfieldsuisunchamber.com/events/details/fitness-centers-bars-hotels-galleries-small-business-reopening-checklist-advisory-workshop-7468
END:VEVENT

END:VCALENDAR
