BEGIN:VCALENDAR
VERSION:2.0
PRODID:-//ChamberMaster//Event Calendar 2.0//EN
METHOD:PUBLISH
X-PUBLISHED-TTL:P3D
REFRESH-INTERVAL:P3D
CALSCALE:GREGORIAN
BEGIN:VEVENT
DTSTART:20170622T180000Z
DTEND:20170622T190000Z
X-MICROSOFT-CDO-ALLDAYEVENT:FALSE
SUMMARY:FREE Career Enhancement Toolkit ERAU Webinar
DESCRIPTION:How to Create a Career Enhancement Toolkit FREE Webinar hosted by Embry-Riddle Aeronautical University. Smart and successful job seekers prepare themselves for interviews by creating a strategy and leveraging a career portfolio. A portfolio helps you sell yourself by demonstrating your accomplishments\, skills\, and abilities. In this webinar\, noted Career Service experts will discuss how to develop an effective portfolio and how to use it to help you get promoted or land that new job. To sign up visit: https://worldwide.erau.edu/webinars/career-enhancement-toolkit or to attend the webinar viewing at the Travis Campus RSVP at travis@erau.edu (Free beverages and snacks for attendees)
X-ALT-DESC;FMTTYPE=text/html:How to Create a Career Enhancement Toolkit FREE Webinar hosted by Embry-Riddle Aeronautical University. Smart and successful job seekers prepare themselves for interviews by creating a strategy and leveraging a career portfolio. A portfolio helps you sell yourself by demonstrating your accomplishments\, skills\, and abilities. In this webinar\, noted Career Service experts will discuss how to develop an effective portfolio and how to use it to help you get promoted or land that new job. To sign up visit: https://worldwide.erau.edu/webinars/career-enhancement-toolkit or to attend the webinar viewing at the Travis Campus RSVP at travis@erau.edu (Free beverages and snacks for attendees)
LOCATION:Embry-Riddle Travis Campus 530 Hickam Ave BLDG 249 Travis AFB\, CA 94535 or Online
UID:e.1602.3510
SEQUENCE:3
DTSTAMP:20260426T005551Z
URL:https://business.fairfieldsuisunchamber.com/events/details/free-career-enhancement-toolkit-erau-webinar-3510
END:VEVENT

END:VCALENDAR
