BEGIN:VCALENDAR
VERSION:2.0
PRODID:-//ChamberMaster//Event Calendar 2.0//EN
METHOD:PUBLISH
X-PUBLISHED-TTL:P3D
REFRESH-INTERVAL:P3D
CALSCALE:GREGORIAN
BEGIN:VEVENT
DTSTART:20170927T013000Z
DTEND:20170927T033000Z
X-MICROSOFT-CDO-ALLDAYEVENT:FALSE
SUMMARY:Free Effective Marketing for your Small Business Workshop
DESCRIPTION:This course will provide you with "need to know" information to develop an effective marketing strategy to help your business grow by attracting the right kind of customers. This highly interactive workshop will provide you with practical information and plans to help you properly position your company for success in the marketplace.
X-ALT-DESC;FMTTYPE=text/html:This course will provide you with &ldquo\;need to know&rdquo\; information to develop an effective marketing strategy to help your business grow by attracting the right kind of customers. This highly interactive workshop will provide you with practical information and plans to help you properly position your company for success in the marketplace.
LOCATION:Fairfield Cordelia Library 5050 Business Center Drive Fairfield
UID:e.1602.3602
SEQUENCE:3
DTSTAMP:20260425T202828Z
URL:https://business.fairfieldsuisunchamber.com/events/details/free-effective-marketing-for-your-small-business-workshop-3602
END:VEVENT

END:VCALENDAR
