BEGIN:VCALENDAR
VERSION:2.0
PRODID:-//ChamberMaster//Event Calendar 2.0//EN
METHOD:PUBLISH
X-PUBLISHED-TTL:P3D
REFRESH-INTERVAL:P3D
CALSCALE:GREGORIAN
BEGIN:VEVENT
DTSTART:20170929T013000Z
DTEND:20170929T013000Z
X-MICROSOFT-CDO-ALLDAYEVENT:FALSE
SUMMARY:Free Effective Selling for your Small Business Workshop
DESCRIPTION:Learning to be proficient at selling is one of the most important skills you will need for your business to succeed. This course will equip you with the information and processes needed to be successful at selling. This highly interactive course will focus on how to generate new leads and how to successfully move those leads through the sales funnel until the deal has been closed. You will learn how to develop time and territory management\, how to use a highly effective and repeatable sales process\, and help you to overcome objections. This course will de-mystify selling\, help give you more confidence\, and help you to develop a mindset to overcome the fear of rejection. Registration required\, workshop is free.
X-ALT-DESC;FMTTYPE=text/html:Learning to be proficient at selling is one of the most important skills you will need for your business to succeed. This course will equip you with the information and processes needed to be successful at selling. This highly interactive course will focus on how to generate new leads and how to successfully move those leads through the sales funnel until the deal has been closed. You will learn how to develop time and territory management\, how to use a highly effective and repeatable sales process\, and help you to overcome objections. This course will de-mystify selling\, help give you more confidence\, and help you to develop a mindset to overcome the fear of rejection. Registration required\, workshop is free.
LOCATION:Fairfield Cordelia Library 5050 Business Center Drive Fairfield
UID:e.1602.3603
SEQUENCE:3
DTSTAMP:20260425T201212Z
URL:https://business.fairfieldsuisunchamber.com/events/details/free-effective-selling-for-your-small-business-workshop-3603
END:VEVENT

END:VCALENDAR
