BEGIN:VCALENDAR
VERSION:2.0
PRODID:-//ChamberMaster//Event Calendar 2.0//EN
METHOD:PUBLISH
X-PUBLISHED-TTL:P3D
REFRESH-INTERVAL:P3D
CALSCALE:GREGORIAN
BEGIN:VEVENT
DTSTART:20181119T160000Z
DTEND:20181203T050000Z
X-MICROSOFT-CDO-ALLDAYEVENT:FALSE
SUMMARY:Free Small Unmanned Systems Course
DESCRIPTION:Free Small Unmanned Aircraft Systems course covering the key concepts & best practices for new users. This free MOOC will be taught by acutal Embry-Riddle Aeronautical University Professors and sUAS program chairs. This course is ideal for anyone new to sUAS (drone systems) who want to learn to operate them confidently and safely. This course will last 2 weeks\, is self-paced usually takes 2-4hrs per week\, and is open to anyone interested. You do not have to be a student or affiliated with Embry-Riddle. At the course conclusion\, you will receive a sUAS badge you can display as you see fit.
X-ALT-DESC;FMTTYPE=text/html:Free Small Unmanned Aircraft Systems course covering the key concepts &amp\; best practices for new users. This free MOOC will be taught by acutal Embry-Riddle Aeronautical University Professors and sUAS program chairs. This course is ideal for anyone new to sUAS (drone systems) who want to learn to operate them confidently and safely. This course will last 2 weeks\, is self-paced usually takes 2-4hrs per week\, and is open to anyone interested. You do not have to be a student or affiliated with Embry-Riddle. At the course conclusion\, you will receive a sUAS badge you can display as you see fit.
LOCATION:Online/Your Convenient location
UID:e.1602.6703
SEQUENCE:3
DTSTAMP:20260424T192756Z
URL:https://business.fairfieldsuisunchamber.com/events/details/free-small-unmanned-systems-course-6703
END:VEVENT

END:VCALENDAR
