BEGIN:VCALENDAR
VERSION:2.0
PRODID:-//ChamberMaster//Event Calendar 2.0//EN
METHOD:PUBLISH
X-PUBLISHED-TTL:P3D
REFRESH-INTERVAL:P3D
CALSCALE:GREGORIAN
BEGIN:VEVENT
DTSTART:20190427T070000Z
DTEND:20190428T000000Z
X-MICROSOFT-CDO-ALLDAYEVENT:FALSE
SUMMARY:Garageland Rodeo play Seven Artisans Winery
DESCRIPTION:Saturday\, April 27th  \n\n \n\n2:00   5:00\n\n \n\nSEVEN ARTISANS WINERY\n\n \n\nPresents:\n\n \n\nGarageland Rodeo\n\n \n\nThey're a funky rock band that will keep you dancing!\n\n \n\n$15 includes one glass of wine\n\n \n\nFood available from Hank & Hazel's Sausage Cart\n\n \n\nJoin us for an afternoon of fantastic music\,\n\ntasty cuisine\, dancing\, great people and fun!\n\n \n\n \n\nSeven Artisans Winery\n\n4341 Abernathy Road\n\nFairfield\, CA 94534\n\n \n\nCall or text for reservations:\n\n(707) 771-0911\n\neckerbob@mindspring.com\n\n \n\nNo outside alcohol permitted\n\n \n\nWe'll see you on "the lawn"
X-ALT-DESC;FMTTYPE=text/html:<div style="text-align: center\;"><strong><span style="font-size:large"><span style="font-family:times new roman"><strong><span style="font-family:times new roman\,serif"><span style="font-size:26.0pt">Saturday\, April 27<sup>th</sup>&nbsp\; </span></span></strong></span></span></strong><br />\n&nbsp\;<br />\n<strong><span style="font-size:large"><span style="font-family:times new roman"><strong><span style="font-family:times new roman\,serif"><span style="font-size:26.0pt">2:00 &ndash\; 5:00</span></span></strong></span></span></strong><br />\n&nbsp\;<br />\n<strong><span style="font-size:large"><span style="font-family:times new roman"><strong><span style="font-family:times new roman\,serif"><span style="font-size:28.0pt">SEVEN ARTISANS WINERY</span></span></strong></span></span></strong><br />\n&nbsp\;<br />\n<strong><span style="font-size:large"><span style="font-family:times new roman"><strong><span style="font-family:times new roman\,serif"><span style="font-size:18.0pt">Presents:</span></span></strong></span></span></strong><br />\n&nbsp\;<br />\n<strong><span style="font-size:large"><span style="font-family:times new roman"><strong><span style="font-family:times new roman\,serif"><span style="font-size:48.0pt">Garageland Rodeo</span></span></strong></span></span></strong><br />\n&nbsp\;<br />\n<strong><span style="font-size:large"><span style="font-family:times new roman"><strong><span style="font-family:times new roman\,serif"><span style="font-size:20.0pt">They&rsquo\;re a funky rock band that will keep you dancing!</span></span></strong></span></span></strong><br />\n&nbsp\;<br />\n<strong><em><span style="font-size:large"><span style="font-family:times new roman"><em><span style="font-family:times new roman\,serif"><span style="font-size:14.0pt">$15 includes one glass of wine</span></span></em></span></span></em></strong><br />\n&nbsp\;<br />\n<strong><em><span style="font-size:large"><span style="font-family:times new roman"><em><span style="font-family:times new roman\,serif"><span style="font-size:18.0pt">Food available from Hank &amp\; Hazel&rsquo\;s Sausage Cart</span></span></em></span></span></em></strong><br />\n&nbsp\;<br />\n<strong><em><span style="font-size:large"><span style="font-family:times new roman"><em><span style="font-family:times new roman\,serif"><span style="font-size:14.0pt">Join us for an afternoon of fantastic music\,</span></span></em></span></span></em></strong><br />\n<strong><em><span style="font-size:large"><span style="font-family:times new roman"><em><span style="font-family:times new roman\,serif"><span style="font-size:14.0pt">tasty cuisine\, dancing\, great people and fun!</span></span></em></span></span></em></strong><br />\n&nbsp\;<br />\n&nbsp\;<br />\n<strong><span style="font-size:large"><span style="font-family:times new roman"><strong><span style="font-family:times new roman\,serif"><span style="font-size:20.0pt">Seven Artisans Winery</span></span></strong></span></span></strong><br />\n<strong><span style="font-size:large"><span style="font-family:times new roman"><strong><span style="font-family:times new roman\,serif"><span style="font-size:20.0pt">4341 Abernathy Road</span></span></strong></span></span></strong><br />\n<strong><span style="font-size:large"><span style="font-family:times new roman"><strong><span style="font-family:times new roman\,serif"><span style="font-size:20.0pt">Fairfield\, CA 94534</span></span></strong></span></span></strong><br />\n&nbsp\;<br />\n<strong><span style="font-size:large"><span style="font-family:times new roman"><strong><span style="font-family:times new roman\,serif"><span style="font-size:20.0pt">Call or text for reservations:</span></span></strong></span></span></strong><br />\n<strong><span style="font-size:large"><span style="font-family:times new roman"><strong><span style="font-family:times new roman\,serif"><span style="font-size:20.0pt">(707) 771-0911</span></span></strong></span></span></strong><br />\n<strong><span style="font-size:large"><span style="font-family:times new roman"><strong><span style="font-family:times new roman\,serif"><span style="font-size:20.0pt"><a href="mailto:eckerbob@mindspring.com">eckerbob@mindspring.com</a></span></span></strong></span></span></strong><br />\n&nbsp\;<br />\n<strong><span style="font-size:large"><span style="font-family:times new roman"><strong><span style="font-family:times new roman\,serif"><span style="font-size:20.0pt">No outside alcohol permitted</span></span></strong></span></span></strong><br />\n&nbsp\;<br />\n<strong><em><span style="font-size:large"><span style="font-family:times new roman"><em><span style="font-family:times new roman\,serif"><span style="font-size:16.0pt">We&rsquo\;ll see you on &ldquo\;the lawn&rdquo\;</span></span></em></span></span></em></strong><br />\n&nbsp\;<br />\n&nbsp\;<br />\n&nbsp\;<br />\n&nbsp\;</div>\n
LOCATION:Saturday\, April 27th 2:00 5:00 SEVEN ARTISANS WINERY Presents: Garageland Rodeo They're a funky rock band that will keep you dancing! $15 includes one glass of wine Food available from Hank & Hazel's Sausage Cart Join us for an afternoon of fantastic music\, tasty cuisine\, dancing\, great people and fun! Seven Artisans Winery 4341 Abernathy Road Fairfield\, CA 94534 Call or text for reservations: (707) 771-0911 eckerbob@mindspring.com No outside alcohol permitted We'll see you on "the lawn"
UID:e.1602.7083
SEQUENCE:3
DTSTAMP:20260424T130342Z
URL:https://business.fairfieldsuisunchamber.com/events/details/garageland-rodeo-play-seven-artisans-winery-7083
END:VEVENT

END:VCALENDAR
