BEGIN:VCALENDAR
VERSION:2.0
PRODID:-//ChamberMaster//Event Calendar 2.0//EN
METHOD:PUBLISH
X-PUBLISHED-TTL:P3D
REFRESH-INTERVAL:P3D
CALSCALE:GREGORIAN
BEGIN:VEVENT
DTSTART:20180829T210000Z
DTEND:20180830T000000Z
X-MICROSOFT-CDO-ALLDAYEVENT:FALSE
SUMMARY:Getting Customers Online with Google My Business\, Bing and Yelp
DESCRIPTION:Are you getting all the traffic and leads that you deserve? Learn how to use Local Search optimization to increase your digital presence and bottom line. This workshop will provide insights for busy entrepreneurs who don't have a lot of time but want to be professional online. You don't have to have any experience as a marketer to be successful at social media marketing!
X-ALT-DESC;FMTTYPE=text/html:<span style="font-family:arimo\,arial\,verdana\,sans-serif\; font-size:12px">Are you getting all the traffic and leads that you deserve? Learn how to use Local Search optimization to increase your digital presence and bottom line. This workshop will provide insights for busy entrepreneurs who don&#39\;t have a lot of time but want to be professional online. You don&#39\;t have to have any experience as a marketer to be successful at social media marketing!</span>
LOCATION:Fairfield-Suisun Chamber of Commerce\, 1111 Webster Street\, Fairfield CA 94533
UID:e.1602.6605
SEQUENCE:3
DTSTAMP:20260425T020148Z
URL:https://business.fairfieldsuisunchamber.com/events/details/getting-customers-online-with-google-my-business-bing-and-yelp-08-29-2018-6605
END:VEVENT

END:VCALENDAR
