BEGIN:VCALENDAR
VERSION:2.0
PRODID:-//ChamberMaster//Event Calendar 2.0//EN
METHOD:PUBLISH
X-PUBLISHED-TTL:P3D
REFRESH-INTERVAL:P3D
CALSCALE:GREGORIAN
BEGIN:VEVENT
DTSTART:20180718T170000Z
DTEND:20180718T193000Z
X-MICROSOFT-CDO-ALLDAYEVENT:FALSE
SUMMARY:GETTING CUSTOMERS ONLINE WITH GOOGLE MY BUSINESS\, BING AND YELP
DESCRIPTION:Are you getting all the traffic and leads that you deserve? Learn how to use Local Search optimization to increase your digital presence and bottom line. This workshop will provide insights for busy entrepreneurs who don't have a lot of time but want to be professional online. You don't have to have any experience as a marketer to be successful at social media marketing!
X-ALT-DESC;FMTTYPE=text/html:<span style="background-color:rgb(255\, 255\, 255)\; color:rgb(102\, 102\, 102)\; font-family:open sans\,sans-serif\; font-size:16px">Are you getting all the traffic and leads that you deserve? Learn how to use Local Search optimization to increase your digital presence and bottom line. This workshop will provide insights for busy entrepreneurs who don&#39\;t have a lot of time but want to be professional online. You don&#39\;t have to have any experience as a marketer to be successful at social media marketing!</span>
LOCATION:Fairfield-Suisun Chamber of Commerce 1111 Webster Street Fairfield\, CA 94533
UID:e.1602.5567
SEQUENCE:3
DTSTAMP:20260425T032553Z
URL:https://business.fairfieldsuisunchamber.com/events/details/getting-customers-online-with-google-my-business-bing-and-yelp-5567
END:VEVENT

END:VCALENDAR
