BEGIN:VCALENDAR
VERSION:2.0
PRODID:-//ChamberMaster//Event Calendar 2.0//EN
METHOD:PUBLISH
X-PUBLISHED-TTL:P3D
REFRESH-INTERVAL:P3D
CALSCALE:GREGORIAN
BEGIN:VEVENT
DTSTART:20181013T210000Z
DTEND:20181014T000000Z
X-MICROSOFT-CDO-ALLDAYEVENT:FALSE
SUMMARY:"Glenn Snyder & Co." - Premier Performance at Seven Artisans Winery
DESCRIPTION:Glenn Snyder & Co. is a much in demand Sonoma County duo plays everything from Elvis to Trini Lopez Entertainment at its best and guaranteed to keep you dancing!\n\n\n\n"Such an awesome and welcoming crowd dancing to our versions of songs such as La Bamba and\n\nTwist n' Shout.  We look forward to our return!  Please come dance and party with us!"                           \n\n -Glenn Snyder\n\n \n\n$15/person   includes Entertainment & one glass "First Flight" Wine\n\nReservations Recommended for Choice Seating\n\nCall/Text: (707)330-3806 or Online: www.sevenartisanswinery.com/reservations\n\n*No outside alcoholic beverages* - 21+ to purchase alcohol!
X-ALT-DESC;FMTTYPE=text/html:Glenn Snyder &amp\; Co. is a much in demand Sonoma County duo plays everything from Elvis to Trini Lopez Entertainment at its best and guaranteed to keep you dancing!<br />\n<br />\n&ldquo\;Such an awesome and welcoming crowd dancing to our versions of songs such as La Bamba and<br />\nTwist n&rsquo\; Shout.&nbsp\; We look forward to our return!&nbsp\; Please come dance and party with us!&rdquo\;&nbsp\;&nbsp\;&nbsp\;&nbsp\;&nbsp\;&nbsp\;&nbsp\;&nbsp\;&nbsp\;&nbsp\;&nbsp\;&nbsp\;&nbsp\;&nbsp\;&nbsp\;&nbsp\;&nbsp\;&nbsp\;&nbsp\;&nbsp\;&nbsp\;&nbsp\; &nbsp\;&nbsp\;&nbsp\;&nbsp\;<br />\n&nbsp\;-Glenn Snyder<br />\n&nbsp\;<br />\n$15/person &ndash\; includes Entertainment &amp\; one glass &ldquo\;First Flight&rdquo\; Wine<br />\nReservations Recommended for Choice Seating<br />\nCall/Text: (707)330-3806 or Online: www.sevenartisanswinery.com/reservations<br />\n*No outside alcoholic beverages* - 21+ to purchase alcohol!
LOCATION:Seven Artisans Winery 4341 Abernathy Road Fairfield\, CA
UID:e.1602.6690
SEQUENCE:3
DTSTAMP:20260424T224900Z
URL:https://business.fairfieldsuisunchamber.com/events/details/glenn-snyder-co-premier-performance-at-seven-artisans-winery-6690
END:VEVENT

END:VCALENDAR
