BEGIN:VCALENDAR
VERSION:2.0
PRODID:-//ChamberMaster//Event Calendar 2.0//EN
METHOD:PUBLISH
X-PUBLISHED-TTL:P3D
REFRESH-INTERVAL:P3D
CALSCALE:GREGORIAN
BEGIN:VEVENT
DTSTART:20171101T143000Z
DTEND:20171101T160000Z
X-MICROSOFT-CDO-ALLDAYEVENT:FALSE
SUMMARY:Good Morning Breakfast: A Hand Up Not A Hand Out
DESCRIPTION:A Hand Up Not A Hand Out\n		\n	\n\n\n\n\n\n	\n		\n			\n			\n			A second phase of a multi-dimensional Homeless Stragey\, A Hand Up Not A Hand Out is a plan to help create public awareness and education for our entire community. \n\n			As a coalition of individuals\, business leaders\, and organizations\, we are working together to better inform and engage the Fairfield and Suisun City communities on the matter of reducing homelessness. \n\n			Please join us as we hear from a panel of business leaders\, Fairfield City Police Department\, and the City of Fairfield about YOUR RIGHTS as a business owner in this community. \n			\n\n			\n			\n			\n			 \n\n			 \n\n			 \n			\n			 \n\n			Attendees MUST RSVP as space is limited\n			\n\n			 \n\n			 \n\n			Register HERE
X-ALT-DESC;FMTTYPE=text/html:<div class="m_5765842550152856339gl-contains-text" style="color: rgb(34\, 34\, 34)\; font-family: arial\, sans-serif\; font-size: 12.8px\;">\n<table border="0" cellpadding="0" cellspacing="0" style="border-collapse: collapse\; table-layout: fixed\;" width="100%">\n	<tbody>\n		<tr>\n			<td 10px="" align="left" class="m_5765842550152856339editor-text m_5765842550152856339article-heading-text" color:="" display:="" font-size:="" font-style:="" margin:="" new="" padding:="" style="font-family: Georgia\, " times="" valign="top" word-wrap:="">A Hand Up Not A Hand Out</td>\n		</tr>\n	</tbody>\n</table>\n</div>\n\n<div class="m_5765842550152856339gl-contains-text" style="color: rgb(34\, 34\, 34)\; font-family: arial\, sans-serif\; font-size: 12.8px\;">\n<table border="0" cellpadding="0" cellspacing="0" style="border-collapse: collapse\; table-layout: fixed\;" width="100%">\n	<tbody>\n		<tr>\n			<td align="left" class="m_5765842550152856339editor-text m_5765842550152856339article-text" style="font-family: Arial\, Verdana\, Helvetica\, sans-serif\; margin: 0px\; color: rgb(17\, 17\, 17)\; font-size: 14px\; padding: 10px 10px 10px 20px\; word-wrap: break-word\;" valign="top">\n			<div>\n			<p style="margin: 0px 0px 18px\; padding: 0px\; color: rgb(0\, 0\, 0)\; font-family: Arial\, Helvetica\, sans-serif\; font-size: 12px\;"><span style="font-size: 12pt\;" title="">A second phase of a multi-dimensional Homeless Stragey\, A Hand Up Not A Hand Out is a plan to help create public awareness and education for our entire community.&nbsp\;</span></p>\n\n			<p style="margin: 0px 0px 18px\; padding: 0px\; color: rgb(0\, 0\, 0)\; font-family: Arial\, Helvetica\, sans-serif\; font-size: 12px\;"><span style="font-size: 12pt\;" title="">As a coalition of individuals\, business leaders\, and organizations\, we are working together to better inform and engage the Fairfield and Suisun City communities on the matter of reducing homelessness.&nbsp\;</span></p>\n\n			<p style="margin: 0px 0px 18px\; padding: 0px\; color: rgb(0\, 0\, 0)\; font-family: Arial\, Helvetica\, sans-serif\; font-size: 12px\;"><span style="font-size: 12pt\;" title="">Please join us as we hear from a panel of business leaders\, Fairfield City Police Department\, and the City of Fairfield about YOUR RIGHTS as a business owner in this community.&nbsp\;</span></p>\n			</div>\n\n			<div>\n			<div>\n			<div>\n			<div>&nbsp\;</div>\n\n			<div>&nbsp\;</div>\n\n			<div>&nbsp\;</div>\n			</div>\n			&nbsp\;\n\n			<div align="center" style="text-align: center\;"><span style="font-weight: bold\;">Attendees MUST RSVP as space is limited</span></div>\n			</div>\n\n			<div>&nbsp\;</div>\n\n			<div style="text-align: center\;">&nbsp\;</div>\n\n			<h2 style="text-align: center\;"><a href="http://events.constantcontact.com/register/event?llr=brraxwlab&amp\;oeidk=a07eeojqkf7c08de6cf">Register HERE</a></h2>\n\n			<div>&nbsp\;</div>\n\n			<div>&nbsp\;</div>\n			</div>\n			</td>\n		</tr>\n	</tbody>\n</table>\n</div>\n<br />\n&nbsp\;
LOCATION:Hilton Garden Inn - Fairfield 2200 Gateway Blvd.\, Fairfield
UID:e.1602.3674
SEQUENCE:3
DTSTAMP:20260425T165152Z
URL:https://business.fairfieldsuisunchamber.com/events/details/good-morning-breakfast-a-hand-up-not-a-hand-out-3674
END:VEVENT

END:VCALENDAR
