BEGIN:VCALENDAR
VERSION:2.0
PRODID:-//ChamberMaster//Event Calendar 2.0//EN
METHOD:PUBLISH
X-PUBLISHED-TTL:P3D
REFRESH-INTERVAL:P3D
CALSCALE:GREGORIAN
BEGIN:VEVENT
DTSTART:20190608T170000Z
DTEND:20190608T190000Z
X-MICROSOFT-CDO-ALLDAYEVENT:FALSE
SUMMARY:Grand Opening - Delta Dazzle
DESCRIPTION:COME JOIN US\n\nfor the \n\nGRAND OPENING\n\nof\n\nDELTA DAZZLE \n\nHome decor\, Vintage Goods\n\nJewels the Dazzle!!
X-ALT-DESC;FMTTYPE=text/html:<div style="text-align: center\;"><br />\n<span style="font-size:36px\;"><strong><span style="font-family:arial\;">COME JOIN US<br />\nfor the&nbsp\;<br />\nGRAND OPENING<br />\nof<br />\nDELTA DAZZLE&nbsp\;<br />\n<span style="font-size:28px\;">Home decor\, Vintage Goods<br />\nJewels the Dazzle!!</span></span></strong></span></div>\n
LOCATION:Delta Dazzle 1142 Kellogg Street Suisun City\, Ca. 94585
UID:e.1602.7118
SEQUENCE:3
DTSTAMP:20260424T100801Z
URL:https://business.fairfieldsuisunchamber.com/events/details/grand-opening-delta-dazzle-7118
END:VEVENT

END:VCALENDAR
