BEGIN:VCALENDAR
VERSION:2.0
PRODID:-//ChamberMaster//Event Calendar 2.0//EN
METHOD:PUBLISH
X-PUBLISHED-TTL:P3D
REFRESH-INTERVAL:P3D
CALSCALE:GREGORIAN
BEGIN:VEVENT
DTSTART:20180811T210000Z
DTEND:20180812T010000Z
X-MICROSOFT-CDO-ALLDAYEVENT:FALSE
SUMMARY:Grand Opening - LEVEL Up Beauty Bar
DESCRIPTION:GRAND OPENING! \n\nCome Celebrate With Us\n\nSip\, Socialize & Celebrate \n\n\n\nSmall Bites\, Wine\, Raffles\, Live Music\n\n& FREE SERVICES
X-ALT-DESC;FMTTYPE=text/html:<div style="text-align: center\;"><span style="font-size:20px\;"><span style="font-size:36px\;">GRAND OPENING!&nbsp\;</span><br />\n<span style="font-size:24px\;">Come Celebrate With Us</span><br />\n<span style="font-size:24px\;"><em>Sip\, Socialize&nbsp\;&amp\; Celebrate&nbsp\;</em></span><br />\n<br />\nSmall Bites\, Wine\, Raffles\, Live Music<br />\n&amp\; FREE SERVICES</span></div>\n
LOCATION:LEVEL Up Beauty Bar 1777 North Texas Street Fairfield\, CA 94533
UID:e.1602.6606
SEQUENCE:3
DTSTAMP:20260425T013918Z
URL:https://business.fairfieldsuisunchamber.com/events/details/grand-opening-level-up-beauty-bar-6606
END:VEVENT

END:VCALENDAR
