BEGIN:VCALENDAR
VERSION:2.0
PRODID:-//ChamberMaster//Event Calendar 2.0//EN
METHOD:PUBLISH
X-PUBLISHED-TTL:P3D
REFRESH-INTERVAL:P3D
CALSCALE:GREGORIAN
BEGIN:VEVENT
DTSTART:20170729T230000Z
DTEND:20170730T030000Z
X-MICROSOFT-CDO-ALLDAYEVENT:FALSE
SUMMARY:Green Valley Country Club 2nd Annual Summer Classic Car Show
DESCRIPTION:2nd Annual Green Valley Country Club Summer Classic Car Show\n\n \n\nThe car show will be in the lower parking lot at 4:00 pm and food stations throughout the property will be open from 4:30 p.m. -7:30 p.m. Also a live performance by Bodhi Shrugs\, featuring GVCC's own Joe Messina\, will be on the Front Lawn from 6:30 p.m. - 8:30 p.m. There will also be activities for the kids! See you there!\n\n\n\nFor more information call Amy at 707-864-1101 ext 243.\n\n\n\nThis event is complimentary. Food may be purchased separately- prices vary upon consumption.
X-ALT-DESC;FMTTYPE=text/html:<div style="text-align:center"><span style="font-size:14px"><span style="font-family:arial\,helvetica\,sans-serif">2nd Annual Green Valley Country Club Summer Classic Car Show</span></span></div>\n\n<div style="text-align:center">&nbsp\;</div>\n\n<div style="text-align:center"><span style="font-size:14px"><span style="font-family:arial\,helvetica\,sans-serif"><span style="background-color:rgb(255\, 255\, 255)\; color:rgb(29\, 33\, 41)">The car show will be in the lower parking lot at 4:00 pm and food stations throughout the property will be open from 4:30 p.m. -7:30 p.m. Also a live performance by Bodhi Shrugs\, featuring GVCC&#39\;s own Joe Messina\, will be on the Front Lawn from 6:30 p.m. - 8:30 p.m. There will also be activities for the kids! See you there!</span><br />\n<br />\nFor more information call Amy at 707-864-1101 ext 243.<br />\n<br />\nThis event is complimentary. Food may be purchased separately- prices vary upon consumption.</span></span></div>\n
LOCATION:35 Country Club Drive Fairfield\, CA 94534
UID:e.1602.3577
SEQUENCE:3
DTSTAMP:20260425T235210Z
URL:https://business.fairfieldsuisunchamber.com/events/details/green-valley-country-club-2nd-annual-summer-classic-car-show-3577
END:VEVENT

END:VCALENDAR
