BEGIN:VCALENDAR
VERSION:2.0
PRODID:-//ChamberMaster//Event Calendar 2.0//EN
METHOD:PUBLISH
X-PUBLISHED-TTL:P3D
REFRESH-INTERVAL:P3D
CALSCALE:GREGORIAN
BEGIN:VEVENT
DTSTART:20171001T010000Z
DTEND:20171001T053000Z
X-MICROSOFT-CDO-ALLDAYEVENT:FALSE
SUMMARY:Green Valley Country Club Rock The Mansion
DESCRIPTION:Green Valley Country Club Rock The Mansion\n\n \n\nSaturday\, September 30\, 2017 6:00 PM - 10:30 PM\n\nOutdoor Concert on the Lawn with Laser Light Show.\n\nFeaturing the Blues and Funk of Roem Baur Band.\n\n\n\nAbout Roem Baur\n\nSelected from 100\,000 singers to appear on Season 7 of NBC's The Voice\, Roem Baur has toured extensively throughout the US and abroad\, including England\, Africa\, South America and South East Asia with acclaimed appearances on the main stage at Super Bowl 50 and SXSW for Chevy. His live shows have been lauded by celebrities and legends alike\, including Pink\, MC Hammer\, Chris Isaak\, Walt Mossberg (The Wall Street Journal)\, Pat Benatar\, and Adam Duritz (Counting Crows).\n\n"You have an amazing voice. Incredible." - Pink
X-ALT-DESC;FMTTYPE=text/html:<div style="text-align:center"><span style="font-size:16px"><span style="font-family:arial\,helvetica\,sans-serif">Green Valley Country Club Rock The Mansion</span></span><br />\n&nbsp\;</div>\n\n<div style="text-align:center"><span style="font-size:16px"><span style="font-family:arial\,helvetica\,sans-serif">Saturday\, September 30\, 2017 6:00 PM - 10:30 PM</span></span></div>\n\n<div style="text-align:center"><span style="font-size:16px"><span style="font-family:arial\,helvetica\,sans-serif">Outdoor Concert on the Lawn with Laser Light Show.<br />\nFeaturing the Blues and Funk of Roem Baur Band.<br />\n<br />\n<strong>About Roem Baur</strong></span></span></div>\n\n<div style="text-align:center"><span style="font-family:calibri\,sans-serif"><span style="font-size:11.0pt"><span style="font-size:16px"><span style="font-family:arial\,helvetica\,sans-serif">Selected from 100\,000 singers to appear on Season 7 of NBC&#39\;s The Voice\, Roem Baur has toured extensively throughout the US and abroad\, including England\, Africa\, South America and South East Asia with acclaimed appearances on the main stage at Super Bowl 50 and SXSW for Chevy. His live shows have been lauded by celebrities and legends alike\, including Pink\, MC Hammer\, Chris Isaak\, Walt Mossberg (The Wall Street Journal)\, Pat Benatar\, and Adam Duritz (Counting Crows).<br />\n&quot\;You have an amazing voice. Incredible.&quot\; - Pink</span></span></span></span></div>\n
LOCATION:35 Country Club Drive Fairfield\, CA 94534
UID:e.1602.3578
SEQUENCE:3
DTSTAMP:20260425T201412Z
URL:https://business.fairfieldsuisunchamber.com/events/details/green-valley-country-club-rock-the-mansion-3578
END:VEVENT

END:VCALENDAR
