BEGIN:VCALENDAR
VERSION:2.0
PRODID:-//ChamberMaster//Event Calendar 2.0//EN
METHOD:PUBLISH
X-PUBLISHED-TTL:P3D
REFRESH-INTERVAL:P3D
CALSCALE:GREGORIAN
BEGIN:VEVENT
DTSTART:20170610T210000Z
DTEND:20170611T000000Z
X-MICROSOFT-CDO-ALLDAYEVENT:FALSE
SUMMARY:HEY JUDE play Seven Artisans Winery
DESCRIPTION:Saturday\, June 10th\n\n \n\n2:00 - 5:00 PM\n\n \n\nSeven Artisans Winery presents:\n\n \n\nThe incomparable\n\n \n\nHEY JUDE\n\n \n\n$10 cover includes a glass of First Flight wine\n\n \n\nNo outside alcohol\, please\n\n \n\nJoin us for great music\, dancing\, \n\nwine\, food and lots of fun \n\nat\n\nSeven Artisans Winery\n\n4341 Abernathy Road\n\nFairfield/Suisun Valley\n\n(707) 330-3806\n\n \n\n \n\nWe'll see you on the "lawn"
X-ALT-DESC;FMTTYPE=text/html:<div style="text-align: center\;"><strong><em>Saturday\,&nbsp\;June 10th</em></strong></div>\n\n<div style="text-align: center\;">&nbsp\;</div>\n\n<div style="text-align: center\;"><em><strong>2:00 - 5:00 PM</strong></em></div>\n\n<div style="text-align: center\;">&nbsp\;</div>\n\n<div style="text-align: center\;"><strong>Seven Artisans Winery presents:</strong></div>\n\n<div style="text-align: center\;">&nbsp\;</div>\n\n<div style="text-align: center\;"><strong><em>The incomparable</em></strong></div>\n\n<div style="text-align: center\;">&nbsp\;</div>\n\n<div style="text-align: center\;"><strong>HEY JUDE</strong></div>\n\n<div style="text-align: center\;">&nbsp\;</div>\n\n<div style="text-align: center\;"><strong>$10 cover includes a glass of First Flight wine</strong></div>\n\n<div style="text-align: center\;">&nbsp\;</div>\n\n<div style="text-align: center\;"><strong>No outside&nbsp\;alcohol\, please</strong></div>\n\n<div style="text-align: center\;">&nbsp\;</div>\n\n<div style="text-align: center\;"><strong><em>Join us for great music\, dancing\, </em></strong></div>\n\n<div style="text-align: center\;"><strong><em>wine\, food&nbsp\;and </em></strong><strong><em>lots of fun&nbsp\;</em></strong></div>\n\n<div style="text-align: center\;"><strong>at</strong></div>\n\n<div style="text-align: center\;"><strong>Seven Artisans Winery<br />\n4341 Abernathy Road<br />\nFairfield/Suisun Valley<br />\n(707) 330-3806</strong><br />\n&nbsp\;</div>\n\n<div style="text-align: center\;">&nbsp\;</div>\n\n<div style="text-align: center\;"><em><strong>We&#39\;ll see you on the &quot\;lawn&quot\;</strong></em></div>\n\n<div>&nbsp\;</div>\n
LOCATION:Seven Artisans Winery 4341 Abernathy Road Fairfield/Suisun Valley (707) 330-3806
UID:e.1602.3540
SEQUENCE:3
DTSTAMP:20260426T005423Z
URL:https://business.fairfieldsuisunchamber.com/events/details/hey-jude-play-seven-artisans-winery-3540
END:VEVENT

END:VCALENDAR
