BEGIN:VCALENDAR
VERSION:2.0
PRODID:-//ChamberMaster//Event Calendar 2.0//EN
METHOD:PUBLISH
X-PUBLISHED-TTL:P3D
REFRESH-INTERVAL:P3D
CALSCALE:GREGORIAN
BEGIN:VEVENT
DTSTART:20171111T220000Z
DTEND:20171112T010000Z
X-MICROSOFT-CDO-ALLDAYEVENT:FALSE
SUMMARY:"Hey Jude" - the Band performing at Seven Artisans Winery
DESCRIPTION:Hey Jude (The Band) hails from Vacaville and the SF bay area in California. Hey Jude plays energetic and accurate versions of music from the 60's\, and 70's\, with an emphasis on The Beatles. Hey Jude was formed in 2011 with each member bringing years of experience to provide one of the Bay Area's best party and dance experiences\, featuring music we can all sing along with and get up and move to!\n\n\n\nFood Truck - Cecil's Taste - GRAB THE BEST STREET FOOD IN TOWN!\n\n\n\nStreet Fries -Truck Smoked Pork Belly\, 2 or 3 cheeses\, Gallo's wasted sauce\, Crushed Holy Kale\n\nWest Saeed Veggie - Black bean-corn patty\, Avocado salad\, Cucumber\, Red onion\, Holy Kale\, Chive buttermilk\, Pretzel bun\n\nBig C's Burger - Applewood smoked bacon\, American cheese\, Avocado salad\, Gallo's Wasted Sauce on a Brioche Bun
X-ALT-DESC;FMTTYPE=text/html:Hey Jude (The Band) hails from Vacaville and the SF bay area in California. Hey Jude plays energetic and accurate versions of music from the 60&#39\;s\, and 70&#39\;s\, with an emphasis on The Beatles. Hey Jude was formed in 2011 with each member bringing years of experience to provide one of the Bay Area&#39\;s best party and dance experiences\, featuring music we can all sing along with and get up and move to!<br />\n<br />\n<strong>Food Truck - Cecil&rsquo\;s Taste - GRAB THE BEST STREET FOOD IN TOWN!</strong><br />\n<br />\n<strong>Street Fries -</strong>Truck Smoked Pork Belly\, 2 or 3 cheeses\, Gallo&rsquo\;s wasted sauce\, Crushed Holy Kale<br />\n<strong>West Saeed Veggie -&nbsp\;</strong>Black bean-corn patty\, Avocado salad\, Cucumber\, Red onion\, Holy Kale\, Chive buttermilk\, Pretzel bun<br />\n<strong>Big C&#39\;s Burger - A</strong>pplewood smoked bacon\, American cheese\, Avocado salad\, Gallo&rsquo\;s Wasted Sauce on a Brioche Bun
LOCATION:Seven Artisans Winery 4341 Abernathy Road Fairfield\, CA 94534
UID:e.1602.3814
SEQUENCE:3
DTSTAMP:20260425T165334Z
URL:https://business.fairfieldsuisunchamber.com/events/details/hey-jude-the-band-performing-at-seven-artisans-winery-3814
END:VEVENT

END:VCALENDAR
