BEGIN:VCALENDAR
VERSION:2.0
PRODID:-//ChamberMaster//Event Calendar 2.0//EN
METHOD:PUBLISH
X-PUBLISHED-TTL:P3D
REFRESH-INTERVAL:P3D
CALSCALE:GREGORIAN
BEGIN:VEVENT
DTSTART:20181028T000000Z
DTEND:20181028T040000Z
X-MICROSOFT-CDO-ALLDAYEVENT:FALSE
SUMMARY:Imagine Me Foundation Presents: 'Laugh Out Loud Cancer Can't Win!'' Fashion & Comedy Show
DESCRIPTION:Celebrating and honoring cancer survivors and those who lost the battle.  A fashion show you don't want to miss\, come out and celebrate with Imagine Me Foundation. If you would like to be a model please contact us at imaginemefdn@gmail.com or (707) 639-6417 by October 12\, 2018\n\n\n\nTo purchase tickets please click on this link https://red.vendini.com/ticket-software.html?t=tix&e=2b75a9a1c15769240ac34cd299423dd6 or you can purchase tickets at the Suisun Harbor Theatre and Serendipity Bible House
X-ALT-DESC;FMTTYPE=text/html:<strong><span style="font-family:comic sans ms"><span style="font-size:14px"><span style="color:#4B0082">Celebrating and honoring cancer survivors and those who lost the battle.&nbsp\; A fashion show you don&#39\;t want to miss\, come out and celebrate with Imagine Me Foundation. If you would like to be a model please contact us at imaginemefdn@gmail.com or (707) 639-6417 by October 12\, 2018<br />\n<br />\nTo purchase tickets please click on this link&nbsp\;</span><a class="OWAAutoLink" href="https://red.vendini.com/ticket-software.html?t=tix&amp\;e=2b75a9a1c15769240ac34cd299423dd6" id="LPlnk543624" style="background-color: transparent\; color: rgb(0\, 102\, 204)\; font-family: Calibri\,Helvetica\,sans-serif\,&amp\;quot\;EmojiFont&amp\;quot\;\,&amp\;quot\;Apple Color Emoji&amp\;quot\;\,&amp\;quot\;Segoe UI Emoji&amp\;quot\;\,NotoColorEmoji\,&amp\;quot\;Segoe UI Symbol&amp\;quot\;\,&amp\;quot\;Android Emoji&amp\;quot\;\,EmojiSymbols\; font-size: 14.66px\; font-style: normal\; font-variant: normal\; font-weight: 400\; letter-spacing: normal\; orphans: 2\; text-align: left\; text-decoration: underline\; text-indent: 0px\; text-transform: none\; -webkit-text-stroke-width: 0px\; white-space: normal\; word-spacing: 0px\;" title="https://red.vendini.com/ticket-software.html?t=tix&amp\;amp\;e=2b75a9a1c15769240ac34cd299423dd6\nCtrl+Click or tap to follow the link"><span style="color:#4B0082">https://red.vendini.com/ticket-software.html?t=tix&amp\;e=2b75a9a1c15769240ac34cd299423dd6</span></a> <span style="color:#4B0082">or you can purchase tickets at the Suisun Harbor Theatre and Serendipity Bible House&nbsp\;</span></span></span></strong>
LOCATION:Suisun Harbor Theatre 720 Main Street Suisun City\, CA 94585
UID:e.1602.6682
SEQUENCE:3
DTSTAMP:20260424T230206Z
URL:https://business.fairfieldsuisunchamber.com/events/details/imagine-me-foundation-presents-laugh-out-loud-cancer-can-t-win-fashion-comedy-show-6682
END:VEVENT

END:VCALENDAR
