BEGIN:VCALENDAR
VERSION:2.0
PRODID:-//ChamberMaster//Event Calendar 2.0//EN
METHOD:PUBLISH
X-PUBLISHED-TTL:P3D
REFRESH-INTERVAL:P3D
CALSCALE:GREGORIAN
BEGIN:VEVENT
DTSTART:20200721T010000Z
DTEND:20200721T020000Z
X-MICROSOFT-CDO-ALLDAYEVENT:FALSE
SUMMARY:Incrementa La Visibilidad De Tu Negocio Con Bing
DESCRIPTION:Incrementar la visibilidad local nunca ha sido m s importante. Con 9 de cada 10 consumidores en l nea buscando servicios y productos en el  ltimo a o\, estar presente en los resultados de b squeda locales es fundamental para que los clientes lleguen a sus puertas.\n\n\n\nNo es ning n secreto que Google My Business domina la b squeda local\, pero  podr as estar perdiendo clientes por no agregar tu negocio a la lista de Bing Places?\n\n\n\nRegistrate para este evento https://bit.ly/3h36DNT
X-ALT-DESC;FMTTYPE=text/html:Incrementar la visibilidad local nunca ha sido m&aacute\;s importante.&nbsp\;Con 9 de cada 10 consumidores en l&iacute\;nea buscando servicios y productos en el &uacute\;ltimo a&ntilde\;o\, estar presente en los resultados de b&uacute\;squeda locales es fundamental para que los clientes lleguen a sus puertas.<br />\n<br />\nNo es ning&uacute\;n secreto que Google My Business domina la b&uacute\;squeda local\, pero &iquest\;podr&iacute\;as estar perdiendo clientes por no agregar tu negocio a la lista de Bing Places?<br />\n<br />\n<strong>Registrate para este evento <a href="https://bit.ly/3h36DNT" target="_blank">https://bit.ly/3h36DNT</a></strong>
LOCATION:https://bit.ly/3h36DNT
UID:e.1602.7476
SEQUENCE:3
DTSTAMP:20260423T132026Z
URL:https://business.fairfieldsuisunchamber.com/events/details/incrementa-la-visibilidad-de-tu-negocio-con-bing-7476
END:VEVENT

END:VCALENDAR
