BEGIN:VCALENDAR
VERSION:2.0
PRODID:-//ChamberMaster//Event Calendar 2.0//EN
METHOD:PUBLISH
X-PUBLISHED-TTL:P3D
REFRESH-INTERVAL:P3D
CALSCALE:GREGORIAN
BEGIN:VEVENT
DTSTART:20171213T003000Z
DTEND:20171213T023000Z
X-MICROSOFT-CDO-ALLDAYEVENT:FALSE
SUMMARY:Jingle Jingle Mix & Mingle
DESCRIPTION:Please come join us for our \n\n2nd Annual Holiday Mixer!
X-ALT-DESC;FMTTYPE=text/html:<div style="text-align: center\;"><br />\n<span style="font-size:28px\;">Please come join us for our&nbsp\;<br />\n2nd&nbsp\;Annual Holiday Mixer!</span></div>\n
LOCATION:Rockville Terrace Senior Living 4625 Mangels Blvd Fairfield\, CA 94534
UID:e.1602.4091
SEQUENCE:3
DTSTAMP:20260425T145324Z
URL:https://business.fairfieldsuisunchamber.com/events/details/jingle-jingle-mix-mingle-4091
END:VEVENT

END:VCALENDAR
