BEGIN:VCALENDAR
VERSION:2.0
PRODID:-//ChamberMaster//Event Calendar 2.0//EN
METHOD:PUBLISH
X-PUBLISHED-TTL:P3D
REFRESH-INTERVAL:P3D
CALSCALE:GREGORIAN
BEGIN:VEVENT
DTSTART:20191107T193000Z
DTEND:20191107T213000Z
X-MICROSOFT-CDO-ALLDAYEVENT:FALSE
SUMMARY:Job Fair
DESCRIPTION:Join Express Employment Professionals at the Fairfield EDD office on November 7th 2019 from 11:30am to 1:30pm for a JOB FAIR!!\n\n\n\nExpress Employment Professionals is recruiting for the following positions: Administrative\, Executive Assistant\, Bookkeeping\, Warehouse\, Production\, Maintenance\, Forklift\, Class C Drivers\, Housekeepers\, Dishwashers and much more. \n\n\n\nBring your resume or fill out an application on the spot!\n\nAddress: 500 Chadbourne Rd\, Fairfield\, CA 94534\n\n\n\nIf you would like to apply or want more information\, please call 707-863-8200.\n\n\n\nTo view a listing of our current job openings please visit:\n\nhttps://www.expresspros.com/Fairfield-Vacaville-CA/Job-Openings.aspx
X-ALT-DESC;FMTTYPE=text/html:<span style="color:#1D2129"><span style="font-family:helvetica\,sans-serif"><span style="font-size:10.5pt">Join Express Employment Professionals at the Fairfield EDD office on November 7th 2019 from 11:30am to 1:30pm for a JOB FAIR!!</span></span></span><br />\n<br />\n<span style="color:#1D2129"><span style="font-family:helvetica\,sans-serif"><span style="font-size:10.5pt">Express Employment Professionals is recruiting for the following positions: Administrative\, Executive Assistant\, Bookkeeping\, Warehouse\, Production\, Maintenance\, Forklift\, Class C Drivers\, Housekeepers\, Dishwashers and much more.&nbsp\;<br />\n<br />\nBring your resume or fill out an application on the spot!<br />\nAddress:&nbsp\;</span></span></span><span style="color:rgb(34\, 34\, 34)\; font-family:roboto\,arial\,sans-serif\; font-size:14px">500 Chadbourne Rd\, Fairfield\, CA 94534</span><br />\n<br />\n<span style="color:#1D2129"><span style="font-family:helvetica\,sans-serif"><span style="font-size:10.5pt">If you would like to apply or want more information\, please call 707-863-8200.<br />\n<br />\nTo view a listing of our current job openings please visit:</span></span></span><br />\n<span style="color:#385898"><span style="font-family:inherit"><span style="font-size:10.5pt"><a href="https://www.expresspros.com/Fairfield-Vacaville-CA/Job-Openings.aspx?fbclid=IwAR07-mhrP-sq49UDaIPjdqYCaOE0sN0h5sRCsasmtEJr8DvO04jjwhgocFM" target="_blank"><span style="color:#385898">https://www.expresspros.com/Fairfield-Vacaville-CA/</span><span style="color:#385898"><span style="font-family:helvetica\,sans-serif">Job-Openings.aspx</span></span></a></span></span></span>
LOCATION:500 Chadbourne Rd\, Fairfield\, CA 94534
UID:e.1602.7373
SEQUENCE:3
DTSTAMP:20260424T023149Z
URL:https://business.fairfieldsuisunchamber.com/events/details/job-fair-7373
END:VEVENT

END:VCALENDAR
