BEGIN:VCALENDAR
VERSION:2.0
PRODID:-//ChamberMaster//Event Calendar 2.0//EN
METHOD:PUBLISH
X-PUBLISHED-TTL:P3D
REFRESH-INTERVAL:P3D
CALSCALE:GREGORIAN
BEGIN:VEVENT
DTSTART:20200814T003000Z
DTEND:20200814T020000Z
X-MICROSOFT-CDO-ALLDAYEVENT:FALSE
SUMMARY:Joint Chamber Mixer hosted by the Daliy Desk
DESCRIPTION:Joint Chamber Mixer with the Vacaville & Vallejo Chamber hosted by the Daily Desk
X-ALT-DESC;FMTTYPE=text/html:<strong background-color:="" font-size:="" style="color: rgb(51\, 51\, 51)\; font-family: sans-serif\, Arial\, Verdana\, &quot\;Trebuchet MS&quot\;\; font-size: 13px\;" text-align:="" trebuchet=""><span style="font-size: 22px\;">Joint Chamber Mixer with the Vacaville &amp\; Vallejo Chamber hosted by the Daily Desk</span></strong>
LOCATION:The Daily Desk 4090 Chadbourne Suite A 100 Fairfield\, CA 94533
UID:e.1602.7414
SEQUENCE:3
DTSTAMP:20260423T114844Z
URL:https://business.fairfieldsuisunchamber.com/events/details/joint-chamber-mixer-hosted-by-the-daliy-desk-7414
END:VEVENT

END:VCALENDAR
