BEGIN:VCALENDAR
VERSION:2.0
PRODID:-//ChamberMaster//Event Calendar 2.0//EN
METHOD:PUBLISH
X-PUBLISHED-TTL:P3D
REFRESH-INTERVAL:P3D
CALSCALE:GREGORIAN
BEGIN:VEVENT
DTSTART:20180720T003000Z
DTEND:20180720T020000Z
X-MICROSOFT-CDO-ALLDAYEVENT:FALSE
SUMMARY:Joint Mixer w/ American Canyon\, Benicia\, Fairfield-Suisun\, and Vallejo Chambers of Commerce Hosted By Solano Community College
DESCRIPTION:One of three Joint Chamber Mixers hosted by Solano Community College. This event is sponsored by both Pacific\, Gas\, & Electric and Medic Ambulance.\n\n\n\nEnjoy great food and tour the building facility.
X-ALT-DESC;FMTTYPE=text/html:One of three Joint Chamber Mixers hosted by Solano Community College. This event is sponsored by both Pacific\, Gas\, &amp\; Electric and Medic Ambulance.<br />\n<br />\nEnjoy great food and tour the building facility.&nbsp\;
LOCATION:Solano Community College Vallejo Auto Tech Center 1687 N. Ascot Parkway\, Vallejo\, CA 94591
UID:e.1602.5553
SEQUENCE:3
DTSTAMP:20260425T033121Z
URL:https://business.fairfieldsuisunchamber.com/events/details/joint-mixer-w-american-canyon-benicia-fairfield-suisun-and-vallejo-chambers-of-commerce-hosted-by-solano-community-college-5553
END:VEVENT

END:VCALENDAR
