BEGIN:VCALENDAR
VERSION:2.0
PRODID:-//ChamberMaster//Event Calendar 2.0//EN
METHOD:PUBLISH
X-PUBLISHED-TTL:P3D
REFRESH-INTERVAL:P3D
CALSCALE:GREGORIAN
BEGIN:VEVENT
DTSTART:20180712T000000Z
DTEND:20180712T010000Z
X-MICROSOFT-CDO-ALLDAYEVENT:FALSE
SUMMARY:Joint Ribbon-Cutting with the Fairfield Main Street Association Hosted by Saffron Indian Cuisine
DESCRIPTION:Come Celebrate with the \n\nFairfield-Suisun Chamber of Commerce \n\n \n\nThe Ribbon Cutting \n\nof \n\nSAFFRON INDIAN CUISINE & BAR\n\n739 Texas St.\n\nFairfield\, CA 94533
X-ALT-DESC;FMTTYPE=text/html:<div style="text-align: center\;"><span style="text-align: center\; font-family: &quot\;times new roman&quot\;\, serif\;"><span style="font-size: 22pt\;">Come Celebrate with the&nbsp\;</span></span><br style="text-align: center\;" />\n<span style="text-align: center\; font-family: &quot\;times new roman&quot\;\, serif\;"><span style="font-size: 22pt\;">Fairfield-Suisun&nbsp\;Chamber of Commerce&nbsp\;</span></span><br style="text-align: center\;" />\n<span style="text-align: center\;">&nbsp\;</span><br style="text-align: center\;" />\n<strong style="text-align: center\;"><span style="font-family: &quot\;times new roman&quot\;\, serif\;"><span style="font-size: 24pt\;">The Ribbon Cutting&nbsp\;</span></span></strong><br style="text-align: center\;" />\n<span style="text-align: center\; font-family: &quot\;times new roman&quot\;\, serif\;"><span style="font-size: 20pt\;">of&nbsp\;</span></span><br style="text-align: center\;" />\n<font face="times new roman\, serif"><span style="font-size: 32px\;"><b>SAFFRON INDIAN CUISINE &amp\; BAR</b></span></font><br style="text-align: center\;" />\n<span style="text-align: center\; font-family: &quot\;times new roman&quot\;\, serif\;"><span style="font-size: 24pt\;">739 Texas St.</span></span></div>\n\n<div style="text-align: center\;"><font face="times new roman\, serif"><span style="font-size: 32px\;">Fairfield\, CA 94533</span></font></div>\n
LOCATION:Saffron Indian Cuisine & Bar 739 Texas St.\, Fairfield
UID:e.1602.5565
SEQUENCE:3
DTSTAMP:20260425T033050Z
URL:https://business.fairfieldsuisunchamber.com/events/details/joint-ribbon-cutting-with-the-fairfield-main-street-association-hosted-by-saffron-indian-cuisine-5565
END:VEVENT

END:VCALENDAR
