BEGIN:VCALENDAR
VERSION:2.0
PRODID:-//ChamberMaster//Event Calendar 2.0//EN
METHOD:PUBLISH
X-PUBLISHED-TTL:P3D
REFRESH-INTERVAL:P3D
CALSCALE:GREGORIAN
BEGIN:VEVENT
DTSTART:20170928T003000Z
DTEND:20170928T023000Z
X-MICROSOFT-CDO-ALLDAYEVENT:FALSE
SUMMARY:Kaiser's First Responder Appreciation Day
DESCRIPTION:
X-ALT-DESC;FMTTYPE=text/html:
LOCATION:
UID:e.1602.3570
SEQUENCE:3
DTSTAMP:20260425T201003Z
URL:https://business.fairfieldsuisunchamber.com/events/details/kaiser-s-first-responder-appreciation-day-3570
END:VEVENT

END:VCALENDAR
