BEGIN:VCALENDAR
VERSION:2.0
PRODID:-//ChamberMaster//Event Calendar 2.0//EN
METHOD:PUBLISH
X-PUBLISHED-TTL:P3D
REFRESH-INTERVAL:P3D
CALSCALE:GREGORIAN
BEGIN:VEVENT
DTSTART:20181009T170000Z
DTEND:20181009T173000Z
X-MICROSOFT-CDO-ALLDAYEVENT:FALSE
SUMMARY:KUIC Coffee Break
DESCRIPTION:Coffee break with KUIC in celebration of Dr. Ash Varmas "Matching Grant 2018" of $15\,000 to the Solano County Library Foundation. General donations made until 12/31/18 will be doubled. Monies raised will go to Solano County Library Literacy Programs.
X-ALT-DESC;FMTTYPE=text/html:Coffee break with KUIC in celebration of Dr. Ash Varmas &quot\;Matching Grant 2018&quot\; of $15\,000 to the Solano County Library Foundation. General donations made until 12/31/18 will be doubled. Monies raised will go to Solano County Library Literacy Programs.
LOCATION:Solano County Library - Civic Center\, Fairfield
UID:e.1602.6687
SEQUENCE:3
DTSTAMP:20260424T224640Z
URL:https://business.fairfieldsuisunchamber.com/events/details/kuic-coffee-break-6687
END:VEVENT

END:VCALENDAR
