BEGIN:VCALENDAR
VERSION:2.0
PRODID:-//ChamberMaster//Event Calendar 2.0//EN
METHOD:PUBLISH
X-PUBLISHED-TTL:P3D
REFRESH-INTERVAL:P3D
CALSCALE:GREGORIAN
BEGIN:VEVENT
DTSTART:20191017T150000Z
DTEND:20191017T190000Z
X-MICROSOFT-CDO-ALLDAYEVENT:FALSE
SUMMARY:Labor and Employment Law Update
DESCRIPTION:LABOR AND EMPLOYMENT LAW UPDATE\n\nThis presentation will cover some of the most important recent legal developments for the management of human resources.  Georgelle Cuevas\, esq.\, PHR\, of Atkinson\, Andelson\, Loya\, Ruud & Romo\, will address key topics of concern for human resources professionals and managers.  This seminar will look at new laws and provide practical information with an eye toward limiting liability.\n\n \n\nSPEAKER\n\nGeorgelle Cuevas\, esq.\, PHR\, is an associate in the Pleasanton office of Atkinson\, Andelson\, Loya\, Ruud & Romo.  Ms. Cuevas is experienced in counseling and representing public and private sector employers in all aspects of labor and employment law\, including discrimination/harassment\, wrongful termination\, disability\, reasonable accommodation\, wage and hour requirements\, leave requirements\, discipline and dismissal.  She has significant experience conducting thorough and effective investigations concerning workplace issues.\n\nIn addition to being a licensed attorney\, Ms. Cuevas is also a Certified Professional in Human Resources.  Ms. Cuevas gained experience in employment law\, retirement\, education and civil rights at previous firms.\n\n \n\nAGENDA\n\n8:00 a.m.   Registration\, networking and continental breakfast\n\n8:30 a.m.   Welcome and introduction of speaker:  Georgelle Cuevas\n\n8:45 a.m.   Program:  Labor and Employment Law Update\n\n10:00 a.m.  Break\n\n10:15 a.m.  Resume program\n\n12:00 p.m.  Adjourn\n\n \n\nREGISTRATION\n\nRegister no later than Thursday\, October 10\, 2019.  Substitutions welcome\, no refunds.\n\nDay of Event (subject to space availability) cost is $95.\n\nFunds collected exceeding the seminar cost will support future seminars or community employment and training opportunities.\n\nShare this event on Facebook and Twitter.\n\nWe hope you can make it!
X-ALT-DESC;FMTTYPE=text/html:<p><span style="font-size:16px\;">LABOR AND EMPLOYMENT LAW UPDATE</span></p>\n\n<p><span style="font-size:16px\;">This presentation will cover some of the most important recent legal developments for the management of human resources.&nbsp\; Georgelle Cuevas\, esq.\, PHR\, of Atkinson\, Andelson\, Loya\, Ruud &amp\; Romo\, will address key topics of concern for human resources professionals and managers.&nbsp\; This seminar will look at new laws and provide practical information with an eye toward limiting liability.</span></p>\n\n<p>&nbsp\;</p>\n\n<p><span style="font-size:16px\;">SPEAKER</span></p>\n\n<p><span style="font-size:16px\;">Georgelle Cuevas\, esq.\, PHR\, is an associate in the Pleasanton office of Atkinson\, Andelson\, Loya\, Ruud &amp\; Romo.&nbsp\; Ms. Cuevas is experienced in counseling and representing public and private sector employers in all aspects of labor and employment law\, including discrimination/harassment\, wrongful termination\, disability\, reasonable accommodation\, wage and hour requirements\, leave requirements\, discipline and dismissal.&nbsp\; She has significant experience conducting thorough and effective investigations concerning workplace issues.</span></p>\n\n<p><span style="font-size:16px\;">In addition to being a licensed attorney\, Ms. Cuevas is also a Certified Professional in Human Resources.&nbsp\; Ms. Cuevas gained experience in employment law\, retirement\, education and civil rights at previous firms.</span></p>\n\n<p>&nbsp\;</p>\n\n<p><span style="font-size:16px\;">AGENDA</span></p>\n\n<p><span style="font-size:16px\;">8:00 a.m. &nbsp\; Registration\, networking and continental breakfast</span></p>\n\n<p><span style="font-size:16px\;">8:30 a.m. &nbsp\; Welcome and introduction of speaker:&nbsp\; Georgelle Cuevas</span></p>\n\n<p><span style="font-size:16px\;">8:45 a.m. &nbsp\; Program:&nbsp\; Labor and Employment Law Update</span></p>\n\n<p><span style="font-size:16px\;">10:00 a.m.&nbsp\; Break</span></p>\n\n<p><span style="font-size:16px\;">10:15 a.m.&nbsp\; Resume program</span></p>\n\n<p><span style="font-size:16px\;">12:00 p.m.&nbsp\; Adjourn</span></p>\n\n<p>&nbsp\;</p>\n\n<p><span style="font-size:16px\;">REGISTRATION</span></p>\n\n<p><span style="font-size:16px\;">Register no later than Thursday\, October 10\, 2019.&nbsp\; Substitutions welcome\, no refunds.</span></p>\n\n<p><span style="font-size:16px\;">Day of Event (subject to space availability) cost is $95.</span></p>\n\n<p><span style="font-size:16px\;">Funds collected exceeding the seminar cost will support future seminars or community employment and training opportunities.</span></p>\n\n<p><span style="font-size:16px\;">Share this event on&nbsp\;<a data-saferedirecturl="https://www.google.com/url?q=http://www.facebook.com/share.php?u%3Dhttps%253A//www.eventbrite.com/e/labor-and-employment-law-update-tickets-64170847733%253Fref%253Desfb&amp\;source=gmail&amp\;ust=1568994462482000&amp\;usg=AFQjCNHj7yOM7laU8gaT4ksE6fHi1ZL1bg" href="http://www.facebook.com/share.php?u=https%3A//www.eventbrite.com/e/labor-and-employment-law-update-tickets-64170847733%3Fref%3Desfb" rel="nofollow nofollow noopener noreferrer" target="_blank">Facebook</a>&nbsp\;and&nbsp\;<a data-saferedirecturl="https://www.google.com/url?q=http://twitter.com/home?status%3Dhttps%253A//www.eventbrite.com/e/labor-and-employment-law-update-tickets-64170847733%253Fref%253Destw&amp\;source=gmail&amp\;ust=1568994462482000&amp\;usg=AFQjCNGTBEATFeeLMyJmXpd081fh6IenZA" href="http://twitter.com/home?status=https%3A//www.eventbrite.com/e/labor-and-employment-law-update-tickets-64170847733%3Fref%3Destw" rel="nofollow nofollow noopener noreferrer" target="_blank">Twitter</a>.</span></p>\n\n<p><span style="font-size:16px\;">We hope you can make it!</span></p>\n
LOCATION:NorthBay Healthcare Administration Center 4500 Business Center Drive Fairfield\, CA 94534
UID:e.1602.7319
SEQUENCE:3
DTSTAMP:20260424T040509Z
URL:https://business.fairfieldsuisunchamber.com/events/details/labor-and-employment-law-update-7319
END:VEVENT

END:VCALENDAR
