BEGIN:VCALENDAR
VERSION:2.0
PRODID:-//ChamberMaster//Event Calendar 2.0//EN
METHOD:PUBLISH
X-PUBLISHED-TTL:P3D
REFRESH-INTERVAL:P3D
CALSCALE:GREGORIAN
BEGIN:VEVENT
DTSTART:20171116T160000Z
DTEND:20171117T010000Z
X-MICROSOFT-CDO-ALLDAYEVENT:FALSE
SUMMARY:Leadership Today
DESCRIPTION:Tour of Travis Air Force Base.\n\n\n\nFor additional infomration\, pelase contact Melissa Manry
X-ALT-DESC;FMTTYPE=text/html:Tour of Travis Air Force Base.<br />\n<br />\nFor additional infomration\, pelase contact Melissa Manry&nbsp\;
LOCATION:
UID:e.1602.3799
SEQUENCE:3
DTSTAMP:20260425T164727Z
URL:https://business.fairfieldsuisunchamber.com/events/details/leadership-today-3799
END:VEVENT

END:VCALENDAR
