BEGIN:VCALENDAR
VERSION:2.0
PRODID:-//ChamberMaster//Event Calendar 2.0//EN
METHOD:PUBLISH
X-PUBLISHED-TTL:P3D
REFRESH-INTERVAL:P3D
CALSCALE:GREGORIAN
BEGIN:VEVENT
DTSTART:20180118T160000Z
DTEND:20180119T010000Z
X-MICROSOFT-CDO-ALLDAYEVENT:FALSE
SUMMARY:Leadership Today
DESCRIPTION:Tourism Day\n\n\n\nFor additional information about Leadership Today\, please contact Melissa Manry
X-ALT-DESC;FMTTYPE=text/html:Tourism Day<br />\n<br />\nFor additional information about Leadership Today\, please contact Melissa Manry&nbsp\;
LOCATION:
UID:e.1602.3803
SEQUENCE:3
DTSTAMP:20260425T131611Z
URL:https://business.fairfieldsuisunchamber.com/events/details/leadership-today-3803
END:VEVENT

END:VCALENDAR
