BEGIN:VCALENDAR
VERSION:2.0
PRODID:-//ChamberMaster//Event Calendar 2.0//EN
METHOD:PUBLISH
X-PUBLISHED-TTL:P3D
REFRESH-INTERVAL:P3D
CALSCALE:GREGORIAN
BEGIN:VEVENT
DTSTART:20170505T180000Z
DTEND:20170505T210000Z
X-MICROSOFT-CDO-ALLDAYEVENT:FALSE
SUMMARY:Let's Celebrate Cinco de Mayo
DESCRIPTION:CINCO de MAYO\n\nCelebrate With Us!\n\nat \n\nLa Cabana Restaurant\n\nMusic and Fun Provided\n\nMeals Available for Purchase
X-ALT-DESC;FMTTYPE=text/html:<div style="text-align: center\;"><br />\n<span style="font-size:26px\;"><strong><span style="font-size:36px\;">CINCO de MAYO</span></strong></span></div>\n\n<div style="text-align: center\;"><span style="font-size:36px\;">Celebrate With Us!<br />\nat&nbsp\;<br />\n<strong>La Cabana Restaurant</strong><br />\nMusic and Fun Provided<br />\n<span style="font-size:28px\;">Meals Available for Purchase</span></span></div>\n
LOCATION:La Cabana Restaurant 325 Main Street Suisun City\, CA 94585
UID:e.1602.3506
SEQUENCE:3
DTSTAMP:20260426T023829Z
URL:https://business.fairfieldsuisunchamber.com/events/details/let-s-celebrate-cinco-de-mayo-3506
END:VEVENT

END:VCALENDAR
